BEGIN:VCALENDAR
VERSION:2.0
PRODID:-//克切拉禅修林 - ECPv4.8.1//NONSGML v1.0//EN
CALSCALE:GREGORIAN
METHOD:PUBLISH
X-WR-CALNAME:克切拉禅修林
X-ORIGINAL-URL:https://www.kecharaforestretreat.com/cn/
X-WR-CALDESC:Events for 克切拉禅修林
BEGIN:VEVENT
DTSTART;TZID=Asia/Kuala_Lumpur:20220909T090000
DTEND;TZID=Asia/Kuala_Lumpur:20220909T180000
DTSTAMP:20260419T141406
CREATED:20220804T190553Z
LAST-MODIFIED:20220908T100852Z
UID:54414-1662714000-1662746400@www.kecharaforestretreat.com
SUMMARY:《阎魔法王六十朵玛》万供法会
DESCRIPTION:诚邀参与于9月9日（周五）进行的嘎拉路巴法会。法会举办目的是，为成功寻找和认证尊贵的第廿六世詹杜固仁波切，累积海量功德！ \n嘎拉路巴法会也被称为阎魔六四供，意即“64种供养”，这个法会包括大量的朵玛供养（共一千份供品！），以克服最困难的挑战并消除巨大的障碍。这些朵玛（食子）将供养给智慧佛文殊菩萨忿怒相之一——护法嘎拉路巴。 \n  \n活动详情\n\n2022年9月9日（周五）\n上午9时至中午12时（第一场）\n下午3时至傍晚6时（第二场）\n克切拉禅修林\n免费入场。座位有限，请点此预定名额。\n\n法会将由夏甘丹寺、色邦寺、贝杰林寺和色古寺的受邀僧伽团负责进行，并由尊贵的堪殊洛桑潘德仁波切和其他高僧和格西们主持。 \n  \n功德主和参会者的利益\n参加此法会并念诵供养咒将利于： \n\n消除人生中的障碍\n免受邪灵和妖术侵扰\n抑制愤怒、嫉妒、恐惧、憎恨和我执\n发展修行上的智慧\n\n此外，这法会是夏甘丹寺前住持——尊贵的堪殊洛桑潘德仁波切所推荐进行的法会之一，目的是累积大量功德，为寻找和认证尊贵的詹杜固仁波切的转世创造必要的善因。 \n  \n参与方式\n入场免费。欢迎各界人士参与。你可选择只参与一场或多场法会。欲参加法会的信众，你可以向主持法会的僧伽供养“kuyong”（金钱供养）。 \n为了确保宾客座位足够，请在此预定名额。 \n  \n乐捐方式\n我们恳请你随喜乐捐，赞助在詹杜固仁波切示寂周年纪念和舍利塔开光加持仪式期间一切法会的所需经费。 \n\n普通功德主：RM30\n特别功德主：RM150\n青铜功德主：RM300\n白银功德主：RM750\n黄金功德主：RM1\,500\n钻石功德主：RM3\,000\n大功德主：RM5\,000\n\n大部分的法会将在2022年8月中旬至10月中旬进行。你的捐助将用于以下开销费用： \n\n法会供养\n仪式所需物品\n参访僧团的膳食和旅费\n寺院的维护和管理费用\n\n你可透过VajraSecrets.com线上捐助詹杜固仁波切示寂周年基金，或透过wa.me/60103020999WhatsApp我们。数额不限，随喜乐捐。 \n  \n关于嘎拉路巴\n嘎拉路巴( 又名降阎魔尊） 是文殊菩萨的忿怒化身，象征着修行者必须透过克服瞋恨心才能达到圆满的智慧法身。嘎拉路巴代表来自一切内在的障碍如恐惧、瞋恨、骄慢及嫉妒等”丑陋扭曲“的直接庇护力量。 \n
URL:https://www.kecharaforestretreat.com/cn/event/10000-offering-kalarupa-puja-2022/
LOCATION:克切拉禅修林\, Lot 3189\, Jalan Chamang\, Bentong\, Pahang\, 28700\, Malaysia
GEO:3.522285;101.875113
X-APPLE-STRUCTURED-LOCATION;VALUE=URI;X-ADDRESS=克切拉禅修林 Lot 3189 Jalan Chamang Bentong Pahang 28700 Malaysia;X-APPLE-RADIUS=500;X-TITLE=Lot 3189\, Jalan Chamang:geo:101.875113,3.522285
ATTACH;FMTTYPE=image/jpeg:https://www.kecharaforestretreat.com/wp-content/uploads/2022/08/20220803-kfr-kalarupa-puja-single-event.jpg
END:VEVENT
END:VCALENDAR