BEGIN:VCALENDAR
VERSION:2.0
PRODID:-//克切拉禅修林 - ECPv4.8.1//NONSGML v1.0//EN
CALSCALE:GREGORIAN
METHOD:PUBLISH
X-WR-CALNAME:克切拉禅修林
X-ORIGINAL-URL:https://www.kecharaforestretreat.com/cn/
X-WR-CALDESC:Events for 克切拉禅修林
BEGIN:VEVENT
DTSTART;TZID=Asia/Kuala_Lumpur:20221002T100000
DTEND;TZID=Asia/Kuala_Lumpur:20221002T130000
DTSTAMP:20260419T190525
CREATED:20220815T145615Z
LAST-MODIFIED:20220817T153700Z
UID:54523-1664704800-1664715600@www.kecharaforestretreat.com
SUMMARY:摧破金刚洒净除秽法会
DESCRIPTION:诚邀参与2022年10月2日（周日）举办的洒净除秽法会，消除内外在之障垢和烦恼。 \n摧破金刚，藏名是多杰南炯，其法会之功德，主要为消除众生内在之不净，如内心烦恼以及疾病——譬如瘫痪、中风和皮肤疾病。它亦消除一切外在之不净。强力建议大家亲自出席，以便直接获得净水加持。 \n  \n活动详情\n\n2022年10月2日（周日）\n上午10时——下午1时\n克切拉禅修林\n免费入场。座位有限，请点此预定名额。\n\n法会将由夏甘丹寺、色邦寺、贝杰林寺和色古寺的受邀僧伽团负责进行，并由尊贵的堪殊洛桑潘德仁波切和其他高僧和格西们主持。 \n  \n功德主和出席者的功德利益\n\n摧破恶业\n摧破疾病：瘫痪、中风和皮肤疾病\n摧破秽气邪气\n摧破衰损之害：对寿元减损造成的任何损害\n促进身心健康\n恢复健康\n\n  \n参与方式\n入场免费，我们欢迎各界人士参与。欲参加法会的信众，你可以向将主持法会的僧伽供养“kuyong”（金钱供养）。 \n为了确保宾客座位足够，请点此预定名额。 \n  \n乐捐方式\n我们恳请你随喜乐捐，赞助在詹杜固仁波切示寂周年纪念和舍利塔开光加持仪式期间一切法会的所需经费。 \n\n普通功德主：RM30\n特别功德主：RM150\n青铜功德主：RM300\n白银功德主：RM750\n黄金功德主：RM1\,500\n钻石功德主：RM3\,000\n大功德主：RM5\,000\n\n大部分的法会将在2022年8月中旬至10月中旬进行。你的捐助将用于以下开销费用： \n\n法会供养\n仪式所需物品\n参访僧团的膳食和旅费\n寺院的维护和管理费用\n\n你可透过VajraSecrets.com线上捐助詹杜固仁波切示寂周年基金，或透过wa.me/60103020999WhatsApp我们。数额不限，随喜乐捐。 \n  \n谁是摧破金刚？\n摧破金刚，藏名是多杰南炯，是金刚手披萨呈微忿怒相的化身。祂是除秽净垢五大本尊之一。其洒净仪式“察图”，特具治愈，除秽和净化威力。 \n
URL:https://www.kecharaforestretreat.com/cn/event/chabtru-puja-2022/
LOCATION:克切拉禅修林\, Lot 3189\, Jalan Chamang\, Bentong\, Pahang\, 28700\, Malaysia
GEO:3.522285;101.875113
X-APPLE-STRUCTURED-LOCATION;VALUE=URI;X-ADDRESS=克切拉禅修林 Lot 3189 Jalan Chamang Bentong Pahang 28700 Malaysia;X-APPLE-RADIUS=500;X-TITLE=Lot 3189\, Jalan Chamang:geo:101.875113,3.522285
ATTACH;FMTTYPE=image/jpeg:https://www.kecharaforestretreat.com/wp-content/uploads/2022/08/20220815-kfr-chabtru-purification-puja-single-event.jpg
END:VEVENT
END:VCALENDAR