BEGIN:VCALENDAR
VERSION:2.0
PRODID:-//克切拉禅修林 - ECPv4.8.1//NONSGML v1.0//EN
CALSCALE:GREGORIAN
METHOD:PUBLISH
X-WR-CALNAME:克切拉禅修林
X-ORIGINAL-URL:https://www.kecharaforestretreat.com/cn/
X-WR-CALDESC:Events for 克切拉禅修林
BEGIN:VEVENT
DTSTART;TZID=Asia/Kuala_Lumpur:20220824T183000
DTEND;TZID=Asia/Kuala_Lumpur:20220824T210000
DTSTAMP:20260419T201819
CREATED:20220801T095740Z
LAST-MODIFIED:20220813T143750Z
UID:54305-1661365800-1661374800@www.kecharaforestretreat.com
SUMMARY:多杰雄登日
DESCRIPTION:诚邀参与息灾火供法会，共庆国际多杰雄登日，祈求丰衣足食，财源广进，健康长寿，圆满心愿！ \n  \n活动详情\n\n2022年8月24日（周三）\n晚间6时30分至9时\n克切拉禅修林\n免费入场。座位有限，请点此预定名额。\n\n  \n完整活动时间表\n\n上午10时至11时：供养五色旗 + 烟供（地点：多杰雄登石窟）\n晚间6时30分至9时：西泽息灾火供法会（地点：药师佛山）\n\n  \n法会功德主和出席者的利益\n\n供养五色旗是藏族文化传统，为祈求带来正能量、幸福与和平，在风中送上祈祷和祝福。\n烟供是祈求多杰雄登赐予加持、顺缘和圆满心愿的吉祥仪式。\n西泽息灾火供法会对于治愈疾病和病痛，尤其在新冠疫情期间尤为有利。它也有助于：\n\n消除障碍\n净化过去恶行恶业\n平息四周环境，自然灾害和灾难\n协助往生者投生光明处\n积累修行成就所需功德\n\n\n\n息灾火供法会祈请西泽（多杰雄登平息相）其寂静能量圆满心愿。\n这些法会是由夏甘丹寺前住持——尊贵的堪殊洛桑潘德仁波切所推荐，以累积大量功德，为寻找和认证仁波切的转世创造必要的善因。 \n此法会将由夏甘丹寺的前诵经师——尊贵的艮乌苏拉洛桑津巴以及尊贵的格西强裘坚赞主持。 \n总括而言，这三场法会是祈求多杰雄登加持的庆祝活动，对所有功德主和出席者皆非常有益。\n  \n参与方式\n入场免费。欢迎各界人士参与。参加法会的信众可以向将主持法会的僧伽供养“kuyong”（金钱供养）。 \n法会座位有限，请在此预定名额。 \n  \n乐捐方式\n我们恳请你随喜乐捐，赞助在詹杜固仁波切示寂周年纪念和舍利塔开光加持仪式期间一切法会的所需经费。 \n\n普通功德主：RM30\n特别功德主：RM150\n青铜功德主：RM300\n白银功德主：RM750\n黄金功德主：RM1\,500\n钻石功德主：RM3\,000\n大功德主：RM5\,000\n\n大部分的法会将在2022年8月中旬至10月中旬进行。你的捐助将用于以下开销费用： \n\n法会供养\n仪式所需物品\n参访僧团的膳食和旅费\n寺院的维护和管理费用\n\n你可透过 VajraSecrets.com线上捐助詹杜固仁波切示寂周年基金 ，或透过wa.me/60103020999WhatsApp我们。数额不限，随喜乐捐。 \n许多传统物质在火供法会中焚烧以除障净业。\n  \n关于多杰雄登\n多杰雄登是一位来自西藏的证悟护法，祂能迅速帮助有需要的人。被誉为“世界和平护法”的多杰雄登，让许多人见证和亲身体验祂迅速和仁慈的治愈力量。祂同时能创造灵修和俗世所需的机缘，对治负能量，以及协助营造和睦与祥和的家庭环境和氛围。西泽属多杰雄登的平息相，透过祈请其寂静能量息灾除障。 \n庆祝多杰雄登日的最佳地点莫过于克切拉禅修林——世界上最大多杰雄登佛像的所在地。\n欲了解详情，请WhatsApp至+6010 3020 999，或浏览我们的线上合作伙伴VajraSecrets.com，种类繁多的多杰雄登相关物品供君选择。 \n在多杰雄登石窟进行的烟供。\n
URL:https://www.kecharaforestretreat.com/cn/event/dorje-shugden-day-2022/
LOCATION:克切拉禅修林\, Lot 3189\, Jalan Chamang\, Bentong\, Pahang\, 28700\, Malaysia
GEO:3.522285;101.875113
X-APPLE-STRUCTURED-LOCATION;VALUE=URI;X-ADDRESS=克切拉禅修林 Lot 3189 Jalan Chamang Bentong Pahang 28700 Malaysia;X-APPLE-RADIUS=500;X-TITLE=Lot 3189\, Jalan Chamang:geo:101.875113,3.522285
ATTACH;FMTTYPE=image/jpeg:https://www.kecharaforestretreat.com/wp-content/uploads/2022/07/20220731-kfr-ds-day-single-event.jpg
END:VEVENT
END:VCALENDAR