BEGIN:VCALENDAR
VERSION:2.0
PRODID:-//克切拉禅修林 - ECPv4.8.1//NONSGML v1.0//EN
CALSCALE:GREGORIAN
METHOD:PUBLISH
X-WR-CALNAME:克切拉禅修林
X-ORIGINAL-URL:https://www.kecharaforestretreat.com/cn/
X-WR-CALDESC:Events for 克切拉禅修林
BEGIN:VEVENT
DTSTART;TZID=Asia/Kuala_Lumpur:20221005T090000
DTEND;TZID=Asia/Kuala_Lumpur:20221005T120000
DTSTAMP:20260419T200252
CREATED:20220928T145757Z
LAST-MODIFIED:20220929T115650Z
UID:54728-1664960400-1664971200@www.kecharaforestretreat.com
SUMMARY:多杰雄登降神仪式
DESCRIPTION:\n.mark1{ background: #fbeae9; color: #000; font-weight: 300; display: inline-block; padding: 2rem 2rem;在藏传佛教中，有一个保留至今的传统，即一些受过特别训练的圣者，让证悟者降神至其体内，给予信徒劝告和赐予加持，以及给寻求指引的修行人指示。 \n过去三十多年，我们的创始人尊贵的詹杜固仁波切，通过多位神谕向护法多杰雄登咨询和请示——其中包括甘丹寺的秋阳度津神谕，以及后期来自色拉寺的尊贵的第七任庞隆神谕。 \n自仁波切在2019年示寂后，我们一直延续着通过庞隆神谕向多杰雄登寻求咨询的传统，咨询护法关于克切拉的发展和未来的重要决策。这也包括如何净化恶业和累积功德的宝贵建议，以便寻找我们敬爱的精神导师的转世。 \n  \n\n\n庞隆神谕\n庞隆神谕世系以降神多杰雄登和喀切玛波，以及其预言准确无误而闻名。第六任庞隆神谕曾降神多杰雄登，指引第十四世达赖喇嘛安全出逃西藏至印度。 \n现任第七任庞隆神谕从他的父亲继承衣钵，并且直接由无上殊胜的上师——至尊嘉杰赤江仁波切亲自训练和栽培。 \n\n \n \n诚邀参与于10月5日（周三）尊贵的第七任庞隆神谕的降神仪式。上一次的公开降神仪式于2015年在克切拉禅修林进行，所以这是一个难得的机会，直接获得多杰雄登的加持，被赐予庇佑、疗愈和正能量。 \n  \n活动详情\n\n2022年10月5日（周三）\n上午9时至中午12时\n克切拉禅修林智慧殿\n免费入场。须登记。\n\n \n降神仪式仅对已登记报名的宾客开放，克切拉禅修林当天将不对外开放。 \n\n会员报名（优先座位）将于9月29日上午9时（GMT+8）开放。会员将通过电子邮件和克切拉会员应用程序收到报名通道的链接。\n公众报名将于10月1日上午9时（GMT+8）开放。报名通道的链接将在克切拉脸书群组中公布。\n\n所有出席者也将获得经加持的护法米和护法绳。 \n  \n重要备注\n\n座位有限，一旦额满，报名通道将关闭。报名从速，以免向隅。若你要报名取得会员优先席位，请事先准备好你的克切拉会员卡号。\n会员优先座位仅对克切拉会员开放。请确保你的会员资格有效且已更新。会员预定的座位不可转换给非会员。\n每位克切拉会员仅享有一个会员优先座位。若有非会员（例如孩童）随同前来且想并坐，请改为报名开放给大众的座位区。\n座位按照先到先得原则。克切拉禅修林将于早晨6时30分开放，请尽早抵达，以获得好座位。\n请事先准备好门票以供检查。所有宾客必须出示有效门票才可进入停车区。未登记者将被要求离开。\n 复制门票将被拒绝入内。为免扫兴而归，请勿与任何人分享你的门票信息。\n停车位有限。我们建议尽可能共乘前来，以免造成拥堵。\n穿舒适的鞋子。从停车区步行到登记柜台和智慧殿需约10至15分钟，所以建议穿上舒适的鞋子。\n切勿迟到。克切拉禅修林的入口将于上午8时30分关闭，智慧殿入口则于上午8时50分关闭。迟到者将被拒绝入内，所以请守时，以免失望而归。\n不允许使用录音或摄影设备。入口处将进行检查，你需要在登记柜台交出手机、平板电脑、相机和其他录音设备。你也可选择将上述设备留在车内。\n请事先打印门票以加快登记手续，也不需通过手机出示门票，从而将手机留在车内，而必须到登记柜台交出手机。\n仪式中将不会有个人的加持。长时间的降神对年事已高的尊贵的庞隆神谕身体造成很大的负荷。为了缩短持续降神的时间，神谕将一次性加持在场所有的宾客。若是身患严重疾病/绝症或年老者（超过70 岁）且希望申请个人加持，你可以通过 wa.me/60103020999，申请并详细说明你的情况。\n仪式中将不会有个人物品加持。同样，这是由于时间的限制和神谕身体的负荷。\n孩童可以参加降神仪式。如果你的孩子需要座位，他们必须持有有效门票。吵闹喧哗的孩童将被要求离开大殿。\n请遵守衣着礼仪。请穿过膝的长裤、裙子、连衣裙、长大衣、T 恤、衬衫等。不可穿紧身、透明、暴露的服装。\n\n
URL:https://www.kecharaforestretreat.com/cn/event/dorje-shugden-trance-2022/
LOCATION:克切拉禅修林\, Lot 3189\, Jalan Chamang\, Bentong\, Pahang\, 28700\, Malaysia
GEO:3.522285;101.875113
X-APPLE-STRUCTURED-LOCATION;VALUE=URI;X-ADDRESS=克切拉禅修林 Lot 3189 Jalan Chamang Bentong Pahang 28700 Malaysia;X-APPLE-RADIUS=500;X-TITLE=Lot 3189\, Jalan Chamang:geo:101.875113,3.522285
ATTACH;FMTTYPE=image/jpeg:https://www.kecharaforestretreat.com/wp-content/uploads/2022/09/20220928-kfr-trance-single-event.jpg
END:VEVENT
END:VCALENDAR