BEGIN:VCALENDAR
VERSION:2.0
PRODID:-//克切拉禅修林 - ECPv4.8.1//NONSGML v1.0//EN
CALSCALE:GREGORIAN
METHOD:PUBLISH
X-WR-CALNAME:克切拉禅修林
X-ORIGINAL-URL:https://www.kecharaforestretreat.com/cn/
X-WR-CALDESC:Events for 克切拉禅修林
BEGIN:VEVENT
DTSTART;TZID=Asia/Kuala_Lumpur:20251107T200000
DTEND;TZID=Asia/Kuala_Lumpur:20251107T223000
DTSTAMP:20260419T230537
CREATED:20241108T172929Z
LAST-MODIFIED:20241108T172955Z
UID:58644-1762545600-1762554600@www.kecharaforestretreat.com
SUMMARY:多杰雄登护法酬供
DESCRIPTION:圆满心愿\n诚邀参与配以法器和传统藏式旋律唱颂方式进行的多杰雄登护法酬供。此法会将祈请护法多杰雄登，为我们创造增加财富和资源的条件，庇佑我们不受负能量的侵扰，让修行路更为顺畅，人生更充实满足。 \n  \n活动详情\n\n2025年11月7日（周五）\n晚间8时至10时30分\n克切拉禅修林 + 脸书线上直播\n\n  \n利益\n\n治愈病痛\n增长财富和资源\n成就心愿\n提高专注力、思维清晰度和增长智慧\n免受负能量侵扰\n克服身心灵障碍\n人际关系和谐，思维积极正面，内心祥和\n创造修行顺缘\n\n  \n关于多杰雄登\n多杰雄登是一位能迅速帮助有需要的人的大护法。祂能带来治愈、和谐与祥和的能量；对治负能量和克服障碍；同时创造成功和灵修成长所需顺缘。 \n被誉为“世界和平护法”的多杰雄登，其修持法门在世界各地盛行。任何人都可以通过念诵祂的心咒：嗡·班·杂·维·基·毗·札·那·娑·哈，祈求祂的帮助和加持。 \n
URL:https://www.kecharaforestretreat.com/cn/event/dorjeshugenpuja-nov2025/
LOCATION:克切拉禅修林\, Lot 3189\, Jalan Chamang\, Bentong\, Pahang\, 28700\, Malaysia
GEO:3.522285;101.875113
X-APPLE-STRUCTURED-LOCATION;VALUE=URI;X-ADDRESS=克切拉禅修林 Lot 3189 Jalan Chamang Bentong Pahang 28700 Malaysia;X-APPLE-RADIUS=500;X-TITLE=Lot 3189\, Jalan Chamang:geo:101.875113,3.522285
ATTACH;FMTTYPE=image/jpeg:https://www.kecharaforestretreat.com/wp-content/uploads/2021/10/20211028-dspuja-kfr.com-event-bigbanner-4.jpg
END:VEVENT
END:VCALENDAR