BEGIN:VCALENDAR
VERSION:2.0
PRODID:-//克切拉禅修林 - ECPv4.8.1//NONSGML v1.0//EN
CALSCALE:GREGORIAN
METHOD:PUBLISH
X-WR-CALNAME:克切拉禅修林
X-ORIGINAL-URL:https://www.kecharaforestretreat.com/cn/
X-WR-CALDESC:Events for 克切拉禅修林
BEGIN:VEVENT
DTSTART;TZID=Asia/Kuala_Lumpur:20251206T093000
DTEND;TZID=Asia/Kuala_Lumpur:20251206T140000
DTSTAMP:20260419T172338
CREATED:20241211T180516Z
LAST-MODIFIED:20250103T184333Z
UID:58814-1765013400-1765029600@www.kecharaforestretreat.com
SUMMARY:灵气解析疗愈之道
DESCRIPTION:通过个人气场更了解自己的个性、优点和需要加强的地方。你或许可成为少数幸运儿之一，获得检测个人气场的机会 + 静修指导，助你振奋情绪和改善本身的能量场。 \n  \n活动详情\n\n2025年12月6日（周六）\n早上9时30分——下午2时\n文冬克切拉禅修林\n\n  \n时间表\n\n早上9时30分：活动一\n上午11时：休息\n上午11时30分：活动二 \n下午1时：午餐\n下午2时：活动结束\n\n  \n有兴趣者可WhatsApp至wa.me/60103020999预定名额。 \n  \n活动包含午餐。费用涵盖餐点和活动材料。在此查看所有参与活动条款。\n这是一起来疗愈！——基于西藏治愈身心灵之道的每月活动之一。每个月，我们策划不同的活动，不管是疗愈法或是有意义的社区工作来消除身业，或者透过学习基础佛教哲学开启积极正面的思维，不外乎旨在跟大家一起来追求一个更健康美丽，甚至全新的自己。\n
URL:https://www.kecharaforestretreat.com/cn/event/healbodymindspirit-dec2025/
LOCATION:克切拉禅修林\, Lot 3189\, Jalan Chamang\, Bentong\, Pahang\, 28700\, Malaysia
GEO:3.522285;101.875113
X-APPLE-STRUCTURED-LOCATION;VALUE=URI;X-ADDRESS=克切拉禅修林 Lot 3189 Jalan Chamang Bentong Pahang 28700 Malaysia;X-APPLE-RADIUS=500;X-TITLE=Lot 3189\, Jalan Chamang:geo:101.875113,3.522285
ATTACH;FMTTYPE=image/jpeg:https://www.kecharaforestretreat.com/wp-content/uploads/2022/12/20221223-kfr-HEAL2022-event-cn.jpg
END:VEVENT
END:VCALENDAR