BEGIN:VCALENDAR
VERSION:2.0
PRODID:-//克切拉禅修林 - ECPv4.8.1//NONSGML v1.0//EN
CALSCALE:GREGORIAN
METHOD:PUBLISH
X-WR-CALNAME:克切拉禅修林
X-ORIGINAL-URL:https://www.kecharaforestretreat.com/cn/
X-WR-CALDESC:Events for 克切拉禅修林
BEGIN:VEVENT
DTSTART;TZID=Asia/Kuala_Lumpur:20220906T090000
DTEND;TZID=Asia/Kuala_Lumpur:20220906T123000
DTSTAMP:20260419T125609
CREATED:20220804T170842Z
LAST-MODIFIED:20220824T082601Z
UID:54402-1662454800-1662467400@www.kecharaforestretreat.com
SUMMARY:特别龙王法会
DESCRIPTION:\n.cmsmasters_icon_list_icon_wrap {\n  color: #f8f8f8;\n  padding-bottom: 30px;\n}\n.cmsmasters_icon_list_icon {\n  background-image: url(https://www.kecharaforestretreat.com/wp-content/uploads/2019/03/visitpage-icon-1-activities-candle.png);\n  background-size: 50px;\n  width: 100px;\n  height: 100px;\n  -webkit-border-radius: 50%;\n  border-radius: 50%;\n  opacity: 1;\n  background-position: center center;\n  background-repeat: no-repeat;\n  display: block;\n  text-align: center;\n  z-index: 2;\n  background-color: #f8f8f8;\n  margin: 1px auto;\n  position: relative;\n}\n.cmsmasters_icon_list_icon:after {\n  border-width: 1px;\n  width: 102px;\n  height: 102px;\n  -webkit-border-radius: 50%;\n  border-radius: 50%;\n  border-color: #dfdfdf;\n  content: '';\n  border-style: solid;\n  position: absolute;\n  top: -1px;\n  left: -1px;\n}\n\n@media screen and (max-width: 540px) {\n  .or {\n    display: block;\n  }\n}\n\n.no-bullets li {\n  text-align: center;\n}\n\n.bub1 {\n  margin-bottom: 20px;\n  line-height: 1;\n  text-align: center;\n}\n.bub1 h4\, .bub1 > div {\n  display: inline-block; margin-bottom: 0px;\n}\n.bub1-inner {\n  color: #da3228;\n}\n.bub1 .left {\n  font-size: 0.75rem;\n  font-weight: bold;\n}\n.bub1 .mid {\n  font-size: 0.6rem;\n  font-weight: bold;\n}\n.bub1 .right {\n  font-size: 0.75rem;\n  font-weight: bold;\n}\n.mark1\n{ background: #fbeae9; color: #000; font-weight: 300; display: inline-block; padding: 2rem 2rem;\n}龙王（龙族、龙众）是威力强大的一种众生，他们有能力控制天气、提高生产力和带来好运、财富和正能量。然而，他们也十分敏感，一旦被冒犯，他们可能会构成疾病、障碍和自然灾害。许多癌症、皮肤相关疾病和家庭问题，往往都是因我们有意或无意中冒犯了龙族所引起的。 \n有鉴于此，凡举办能取悦和安抚龙族的龙王法会时，我们最好都能参与。 \n此带来疗愈、健康与和平的龙王法会综合了四场龙族相关法会——龙王朵玛仪、龙王烟供、龙王经典念诵和朵玛百供仪式。若法会能圆满如法进行，它将能提升您的健康、财富、名望、功德、资源、和平、繁荣和修行成就。 \n  \n活动详情\n\n2022年9月6日（星期二）\n9.00 am – 12.30 pm\n克切拉禅修林\n入场免费。座位有限，请预先在此报名 。\n\n  \n\nLutor（龙王朵玛供）是一项复杂的仪式。期间，我们要向精心装饰过的龙窟象征物献上大量的朵玛供养。\nLusang（龙王烟供）是焚烧一种特殊烟供粉供养龙王的仪式，此香粉含各种药草和药材。\nLubum 和 Lui Pangkong（龙王经典念诵）能有效激发龙族相关法会的各种利益。\nTorma Gyatsa（朵玛百供）是给三宝，包括财神和护法，以及一切六道众生供养一百个朵玛的仪式。\n\n上述法会将在尊贵的堪殊仁波切杰尊洛桑潘德和我们传承的其他高僧和格西的带领下，与来自萨甘丹寺、色邦寺、佩杰林寺和色举寺的来访僧众共同完成。 \n  \n功德主和参会者的利益\n\n安抚可能被我们冒犯过的龙族并平息他们的攻击\n取悦附近的龙族，让他们协助我们享有更成功的生意、事业和生活\n治愈由龙族造成的癌症、中风、惊厥、皮肤病和传染病\n吸引和增加财富、名望、生意、运气及资源\n提高生产力和正能量\n带来好天气\n使环境更平静、幸福与和谐\n平息由龙族引起的障碍和自然灾害\n在动土仪式(尤其是建筑和开发项目)前进行法会能避免各种事故和灾难\n累积修行和觉悟所需的功德资粮\n\n此外，这些龙王法会也是多杰雄登护法为所有克切拉人建议的法会之一。它能清除我们在佛法工作上所遇到的内、外障碍，使我们在护持传承与仁波切法业的事业上能取得成功。 \n  \n如何参与\n法会入场免费，欢迎大家踊跃参与。我们鼓励您亲自出席法会，以从中获取的最大效果。 \n有意参与法会者，可向进行法会的僧众供养“雇佣”（kuyong的音译，指象征性的金钱供养）。 \n座位有限，请提前报名，以免向隅。 \n\n\n\n\n\n\n\n龙王法会饮食要求\n有意参加法会者，请在法会前七天开始至法会当天遵守龙王法会饮食要求，严格茹素，这意味着避免： \n\n荤腥食物（葱、蒜、肉类、鱼类、白萝卜、蛋、酒精）\n味道强烈的食物（如榴莲等）\n\n在法会当天，您也应严格保持个人卫生。 \n\n\n\n\n \n  \n乐捐方式\n我们恳请你随喜乐捐，赞助在詹杜固仁波切示寂周年纪念和舍利塔开光加持仪式期间一切法会的所需经费。 \n\n普通功德主：RM30\n特别功德主：RM150\n青铜功德主：RM300\n白银功德主：RM750\n黄金功德主：RM1\,500\n钻石功德主：RM3\,000\n大功德主：RM5\,000\n\n大部分的法会将在2022年8月中旬至10月中旬进行。你的捐助将用于以下开销费用： \n\n法会供养\n仪式所需物品\n参访僧团的膳食和旅费\n寺院的维护和管理费用\n\n你可透过VajraSecrets.com线上捐助詹杜固仁波切示寂周年基金，或透过wa.me/60103020999WhatsApp我们。数额不限，随喜乐捐。 \n
URL:https://www.kecharaforestretreat.com/cn/event/naga-puja-2022/
LOCATION:克切拉禅修林\, Lot 3189\, Jalan Chamang\, Bentong\, Pahang\, 28700\, Malaysia
GEO:3.522285;101.875113
X-APPLE-STRUCTURED-LOCATION;VALUE=URI;X-ADDRESS=克切拉禅修林 Lot 3189 Jalan Chamang Bentong Pahang 28700 Malaysia;X-APPLE-RADIUS=500;X-TITLE=Lot 3189\, Jalan Chamang:geo:101.875113,3.522285
ATTACH;FMTTYPE=image/jpeg:https://www.kecharaforestretreat.com/wp-content/uploads/2022/08/20220805-kfr-naga-puja-single-event.jpg
END:VEVENT
END:VCALENDAR