BEGIN:VCALENDAR
VERSION:2.0
PRODID:-//克切拉禅修林 - ECPv4.8.1//NONSGML v1.0//EN
CALSCALE:GREGORIAN
METHOD:PUBLISH
X-WR-CALNAME:克切拉禅修林
X-ORIGINAL-URL:https://www.kecharaforestretreat.com/cn/
X-WR-CALDESC:Events for 克切拉禅修林
BEGIN:VEVENT
DTSTART;TZID=Asia/Kuala_Lumpur:20221015T090000
DTEND;TZID=Asia/Kuala_Lumpur:20221016T210000
DTSTAMP:20260419T195733
CREATED:20220524T105424Z
LAST-MODIFIED:20220713T131504Z
UID:53860-1665824400-1665954000@www.kecharaforestretreat.com
SUMMARY:实修周末：皈依
DESCRIPTION:\n\n\n\n\n\n\n将您的修持提升到一个新的水平\n我们应将佛法修持视为一个循序渐进的修心过程，这十分重要。正确完成一个步骤之后，它自然会引导我们踏出下一步。同样的，在所有的加行修持当中，我们首先应该完成的就是皈依加行。毕竟，皈依是佛教修持的最主要基础。它基本上改变了我们的生活和思考方式。 \n为什么是皈依？因为这是所有佛教修持的基础。它为其他的一切修持扎下了稳固的根基，并让我们对实践一切佛法教诲，最终获得究竟证悟产生极大的信心。 \n\n“佛、法及僧者，欲解脱所归。”\n– 《皈依七十颂》 – \n\n此加行修持小组 + 实修周末计划旨在协助您顺利完成您的加行修持。2022年小组的目标，是透过小组 + 个人修持，并在讲法师的引导 + 支持，以及同修们的相互鼓励下，在一年内完成皈依加行修持（十万次念诵）闭关。 \n实修周末将由我们的讲法师全程引导，协助您更好地禅修。这包括引导普通加行修持，以辅助和加强您的皈依修持。第一个实修周末（2022年7月）还包括一场为加行修持闭关清除障碍的嘎拉路巴法会；同时，作为吉祥缘起，所有学员将共同进行第一个时段的实修！ \n  \n活动详情\n\n2022年10月15 – 16日（星期六 – 日）\n线上（GoogleMeet）\n\n查看计划详情、费用和预订信息。 \n\n\n\n\n\n\n\n\n
URL:https://www.kecharaforestretreat.com/cn/event/practice-weekend-oct2022/
ATTACH;FMTTYPE=image/jpeg:https://www.kecharaforestretreat.com/wp-content/uploads/2022/05/20220519-KEC-PracticeWeekend-TakingRefuge-kfr-kec-single-event.jpg
END:VEVENT
END:VCALENDAR