BEGIN:VCALENDAR
VERSION:2.0
PRODID:-//克切拉禅修林 - ECPv4.8.1//NONSGML v1.0//EN
CALSCALE:GREGORIAN
METHOD:PUBLISH
X-WR-CALNAME:克切拉禅修林
X-ORIGINAL-URL:https://www.kecharaforestretreat.com/cn/
X-WR-CALDESC:Events for 克切拉禅修林
BEGIN:VEVENT
DTSTART;TZID=Asia/Kuala_Lumpur:20220916T060000
DTEND;TZID=Asia/Kuala_Lumpur:20220918T180000
DTSTAMP:20260419T155440
CREATED:20220805T050530Z
LAST-MODIFIED:20220813T144120Z
UID:54386-1663308000-1663524000@www.kecharaforestretreat.com
SUMMARY:舍利塔开光加持大典
DESCRIPTION: \n#cmsmasters_divider_69e4fac02743f9_06474202 { \n	border-bottom-width:1px; \n	border-bottom-style:solid; \n	padding-top:50px; \n	margin-bottom:50px; \n} \n\n\n\n\n\n\n\n  \n\n\n\n\n\n\n\n\n\n\n\n\n\n\n  \n\n\n\n\n\n\n\n\n\n\n\n\n\n\n  \n\n\n\n\n\n\n\n\n\n\n\n\n\n\n2019年9月4日，我们敬爱的精神导师和创始人——尊贵的第廿五世詹杜固仁波切完成其世间法业，示寂入定。约三年后，我们经历种种障碍，终于完成了仁波切在示寂前亲自吩咐建造的两座舍利塔中的第二座。 \n2022年7月10日，户外舍利塔圆满竣工，大家共同念诵《普贤行愿品回向文》，将功德回向给每一位曾为此计划作出贡献的人。\n室内舍利塔于2020年9月完成，正好赶上仁波切示寂第一周年纪念日。然而，由于疫情导致的种种弊端，室外舍利塔耗时两年才竣工。佛教徒一般都相信，这种种障碍是我们的恶业和违诺所示现出来的现象。 \n无论如何，每一位参与这个项目者的耐心、努力和毅力终于得到了回报。在建造上师舍利塔的过程中，我们不仅得以净除许多恶业、障蔽，修复违弃的诺言，同时也积累了大量的功德。 \n\n\n这两座舍利塔的建成，意义十分巨大，因为它意味着我们已经满足了寻找仁波切转世的前提条件，今后可以正式开展寻找仁波切转世的实际工作。 \n舍利塔对克切拉未来的弘法利生事业也将会产生极大的影响，因为它们承载着仁波切和传承上师们的巨大加持。 \n舍利塔于2022年8月1日揭幕，这一天刚好也是纪念佛陀初转法轮（Chokhor Duchen）的吉祥日。\n我们特别邀请了多位高僧大德和寺院僧伽代表前来参与一项开光加持大典，为舍利塔和詹杜固仁波切舍利殿内的杜固扎巴坚赞圣塔和詹杜固仁波切24位前世圣像进行开光。 \n此项开光加持（饶涅钦莫）仪式将在尊贵的堪殊仁波切杰尊洛桑潘德和我们传承的其他高僧、格西及资深僧人的带领下，与来自萨甘丹寺、色邦寺、佩杰林寺和色举寺的来访僧众共同完成。 \n  \n\n\n活动详情\n\n2022年9月 16 – 18日（星期五-日）\n克切拉禅修林\n免费入场。座位有限，请预先报名。\n\n  \n活动安排\n\n\n\n\n\n\n第一天：9月16日（星期五）\n\n\n\n\n6.00 am 第一时段\n9.30 am 短休\n10.00 am 第二时段\n12.00 pm 午餐\n3.00 pm 第三时段\n5.00 pm 结束\n\n\n\n\n\n\n\n第二天：9月17日（星期六）\n\n\n\n\n5.00 am 第一时段\n9.00 am 短休\n10.00 am 第二时段\n12.00 pm 午餐\n1.00 pm 第三时段\n2.00 pm 火供\n5.00 pm 第四时段\n7.00 pm 结束\n\n\n\n\n\n\n\n第三天：9月18日（星期日）\n\n\n\n\n6.00 am 第一时段\n9.30 am 短休\n10.00 am 第二时段\n12.00 pm 午餐\n3.00 pm 火供\n6.00 pm 结束\n\n\n\n\n  \n2022年7月9日，当我们开始为舍利塔安装金顶时，太阳的周围出现了一个巨大的吉祥光环。\n饶涅钦莫（Rabney Chenmo）的意思是开光加持大法会。这是一个为期三天的大型仪式，其中涉及大量的妙欲供、朵玛、多个火供、传统铜镜和其他各种法具。 \n根据大威德十三尊修持法，这个复杂的仪式通过心咒、专注、观想和供品的力量，与詹杜固仁波切、传承上师、佛、菩萨、阿罗汉、护法、勇士和空行母的智慧能量建立强大的联系。 \n开光加持仪式完成后，这些证悟者的加持将被封存起来——不仅是在佛塔和佛像中，也包括周围的环境，使所有经过的人都得到巨大的加持和净化。 \n  \n\n\n  \n  \n功德主和参会者的利益\n\n净除大量恶业\n净除障蔽，尤其是与违背三昧耶相关的障蔽。\n提升智慧\n增加功德\n改善个人与上师和佛法之间的关系和亲和力\n让内心更平稳、思维清晰和提升觉知\n恢复身、心的平静\n调整情绪\n\n2022年7月7日，我们迎请尊贵的詹杜固的圣舍利到舍利塔，这是一个能给每位朝圣者带来巨大加持的泉源。\n  \n\n\n如何参加\n法会入场免费，欢迎大家踊跃参加。有意参加法会者，可向进行法会的僧众供养“雇佣”（kuyong的音译，指象征性的金钱供养）。 \n由于舍利殿内座位有限，有意出席者请在此预先报名。。 \n  \n\n\n乐捐方式\n我们恳请你随喜乐捐，赞助在詹杜固仁波切示寂周年纪念和舍利塔开光加持仪式期间一切法会的所需经费。 \n\n普通功德主：RM30\n特别功德主：RM150\n青铜功德主：RM300\n白银功德主：RM750\n黄金功德主：RM1\,500\n钻石功德主：RM3\,000\n大功德主：RM5\,000\n\n大部分的法会将在2022年8月中旬至10月中旬进行。你的捐助将用于以下开销费用： \n\n法会供养\n仪式所需物品\n参访僧团的膳食和旅费\n寺院的维护和管理费用\n\n你可透过 VajraSecrets.com线上捐助詹杜固仁波切示寂周年基金，或透过wa.me/60103020999WhatsApp我们。数额不限，随喜乐捐。 \n\n\n\n\n殊胜舍利\n2019年10月7日，我们在拆除仁波切的荼毗塔（圣身舍利塔）时，发现了上百颗珍贵的白舍利。这些舍利目前被供奉在克切拉禅修林的舍利塔内。 \n从7:25开始观看视频以见证发现圣舍利的过程。\n  \n\n\n\n\n\n\n\n\n\n\n\n\n\n\n\n\n\n\n  \n\n\n\n\n\n\n\n\n
URL:https://www.kecharaforestretreat.com/cn/event/rabney-chenmo-2022/
LOCATION:克切拉禅修林\, Lot 3189\, Jalan Chamang\, Bentong\, Pahang\, 28700\, Malaysia
GEO:3.522285;101.875113
X-APPLE-STRUCTURED-LOCATION;VALUE=URI;X-ADDRESS=克切拉禅修林 Lot 3189 Jalan Chamang Bentong Pahang 28700 Malaysia;X-APPLE-RADIUS=500;X-TITLE=Lot 3189\, Jalan Chamang:geo:101.875113,3.522285
ATTACH;FMTTYPE=image/jpeg:https://www.kecharaforestretreat.com/wp-content/uploads/2022/08/stupa-rabney-kfr-single-event-1440x768.jpg
END:VEVENT
END:VCALENDAR