BEGIN:VCALENDAR
VERSION:2.0
PRODID:-//克切拉禅修林 - ECPv4.8.1//NONSGML v1.0//EN
CALSCALE:GREGORIAN
METHOD:PUBLISH
X-WR-CALNAME:克切拉禅修林
X-ORIGINAL-URL:https://www.kecharaforestretreat.com/cn/
X-WR-CALDESC:Events for 克切拉禅修林
BEGIN:VEVENT
DTSTART;TZID=Asia/Kuala_Lumpur:20220830T100000
DTEND;TZID=Asia/Kuala_Lumpur:20220830T120000
DTSTAMP:20260419T172215
CREATED:20220731T124315Z
LAST-MODIFIED:20220813T143837Z
UID:54328-1661853600-1661860800@www.kecharaforestretreat.com
SUMMARY:装藏圣物开光加持法会
DESCRIPTION:诚邀参与将于8月30日（周二）进行的装藏开光特别法会。此法会意味着，我们距离詹杜固仁波切舍利殿和舍利塔的开光加持更近一步！ \n这场准备工夫繁杂的法会将加持和开光两座舍利塔内的装藏圣物。此两座圣塔是尊贵的詹杜固仁波切舍利塔和杜固扎巴坚赞舍利塔，以及24尊仁波切前世塑像。 \n  \n活动详情\n\n2022年8月30日（周二）\n上午10时至中午12时\n克切拉禅修林詹杜固仁波切舍利殿\n免费入场。座位有限，请点此预定名额。\n\n法会将由受邀僧伽团中的夏甘丹寺的前诵经师——尊贵的艮乌苏拉洛桑津巴主持。法会期间，将进行各式将自身化为本尊和观想本尊化入舍利塔和塑像内的装藏圣物仪式。 \n此项重要的仪式是这个圣地最终加持开光仪式之前的最后第二步。 \n  \n利益\n\n加强所植入圣物的加持\n增加这些殊胜建筑物所能累积的功德\n\n在建造詹杜固仁波切舍利殿和舍利塔等佛教礼拜场所时，上述利益尤为重要。每次信众、朝圣者或访客在这里供养和祈祷时，都会将部分的灵修能量转移给，在寺庙建设过程中曾经投入心力和付出的每个人——这是生生不息的功德源泉。 \n这就是我们非常重视履行传统仪式，增强加持寺庙内圣物的原因——增加所有功德主和支持者的功德。 \n  \n参与方式\n入场免费，我们欢迎各界人士参与。欲参加法会的信众，你可以向将主持法会的僧伽供养“kuyong”（金钱供养）。 \n舍利殿座位有限，请点此预定名额。 \n  \n乐捐方式\n我们恳请你随喜乐捐，赞助在詹杜固仁波切示寂周年纪念和舍利塔开光加持仪式期间一切法会的所需经费。 \n\n普通功德主：RM30\n特别功德主：RM150\n青铜功德主：RM300\n白银功德主：RM750\n黄金功德主：RM1\,500\n钻石功德主：RM3\,000\n大功德主：RM5\,000\n\n大部分的法会将在2022年8月中旬至10月中旬进行。你的捐助将用于以下开销费用： \n\n法会供养\n仪式所需物品\n参访僧团的膳食和旅费\n寺院的维护和管理费用\n\n你可透过 VajraSecrets.com线上捐助詹杜固仁波切示寂周年基金，或透过wa.me/60103020999WhatsApp我们。数额不限，随喜乐捐。 \n
URL:https://www.kecharaforestretreat.com/cn/event/soongdrup-blessing-puja-2022/
LOCATION:克切拉禅修林\, Lot 3189\, Jalan Chamang\, Bentong\, Pahang\, 28700\, Malaysia
GEO:3.522285;101.875113
X-APPLE-STRUCTURED-LOCATION;VALUE=URI;X-ADDRESS=克切拉禅修林 Lot 3189 Jalan Chamang Bentong Pahang 28700 Malaysia;X-APPLE-RADIUS=500;X-TITLE=Lot 3189\, Jalan Chamang:geo:101.875113,3.522285
ATTACH;FMTTYPE=image/jpeg:https://www.kecharaforestretreat.com/wp-content/uploads/2022/07/20220731-kfr-soongdrup-puja-single-event.jpg
END:VEVENT
END:VCALENDAR