BEGIN:VCALENDAR
VERSION:2.0
PRODID:-//克切拉禅修林 - ECPv4.8.1//NONSGML v1.0//EN
CALSCALE:GREGORIAN
METHOD:PUBLISH
X-WR-CALNAME:克切拉禅修林
X-ORIGINAL-URL:https://www.kecharaforestretreat.com/cn/
X-WR-CALDESC:Events for 克切拉禅修林
BEGIN:VEVENT
DTSTART;TZID=Asia/Kuala_Lumpur:20220915T093000
DTEND;TZID=Asia/Kuala_Lumpur:20220915T123000
DTSTAMP:20260419T125641
CREATED:20220908T184947Z
LAST-MODIFIED:20220912T135431Z
UID:54625-1663234200-1663245000@www.kecharaforestretreat.com
SUMMARY:居士戒和沙弥戒教诲
DESCRIPTION:尊贵的堪殊仁波切杰尊洛桑潘德即将于9月15日（星期四）为大家讲授居士（优婆塞/优婆夷）戒和沙弥戒。此教诲开放给以下人士参加： \n\n我们即将受沙弥/沙弥尼戒的准出家众。\n任何有意在将来出家的人。\n任何有意接受在家居士戒的人。（点击阅读即将来临的居士戒授戒仪式）\n\n  \n活动详情\n\n2022年9月15日（星期四）\n9.30 am – 12.30 pm\n线上（Zoom）\n免费参与，请在此报名。\n\n报名截止为9月12日（星期三），12.00pm（GMT +8）。 \n（仅开放予克切拉会员/克切拉之友）\n  \n居士戒\n居士的梵文音译为优婆塞，指除比丘、比丘尼或沙弥及沙弥尼外，守佛教五戒的佛教徒： \n\n不杀生\n不偷盗\n不妄语\n不邪淫\n不饮酒（包括任何成瘾性药物）\n\n一般而言，有意受戒者可一次受足五戒，或仅受个别戒；可选择终生守戒或根据个人意愿在某段时期内守戒。守足五项居士戒的在家众，藏文称“格聂/格聂玛”（近事男/近事女），字面意思为“遵守善规者”。 \n  \n沙弥戒\n五戒是佛教别解脱戒中的一部分。别解脱戒主要涵括释迦牟尼佛亲自传承下来的寺院戒规。 \n\n沙弥和沙弥尼受36戒。沙弥和沙弥尼为梵文音译，中文称勤策男或勤策女，藏文音译则是格慈（男）或格慈玛（女）。\n根据我们的传承，受具足戒的比丘（或格隆）守253戒，而比丘尼（或格隆玛）则守364戒。\n\n这些戒律皆包含在佛陀所编制寺院戒法的典籍——律藏中。 \n  \n受戒的利益\n受戒和守戒是一项重要的佛教修持。它协助我们培养修行上的纪律，让我们对日常生活中的言行举止更为警觉。 \n此外，每天守戒能让我们积累功德和净除罪业，有助于我们转化心识，使修行更精进。 \n参加这项教诲不仅能提升您的知识，还能为您将来受戒和守戒种下善因。 \n  \n参加条件\n\n任何有意学习佛教戒条的克切拉会员和克切拉之友皆可参加。\n若您有意在未来接受居士戒或沙弥戒，我们建议您出席这项教诲。\n如果您有意在10月8日接受尊贵的堪殊仁波切传授居士戒，请务必参加这项教诲。\n\n  \n尊贵的堪殊仁波切洛桑潘德简介\n尊贵的堪殊仁波切洛桑潘德师从多位伟大的传承上师，其中包括至尊嘉杰赤江仁波切、至尊嘉杰宋仁波切和尊贵的泽美仁波切。他曾担任甘丹萨济寺的主诵师，后毅然承负萨甘丹寺首位住持的重任。 \n卸下住持重任后，堪殊仁波切在尊贵的詹杜固仁波切的邀请下，于2017年首度拜访克切拉，后也陆续来访了几次。 \n
URL:https://www.kecharaforestretreat.com/cn/event/teaching-on-vows-2022/
LOCATION:克切拉禅修林\, Lot 3189\, Jalan Chamang\, Bentong\, Pahang\, 28700\, Malaysia
GEO:3.522285;101.875113
X-APPLE-STRUCTURED-LOCATION;VALUE=URI;X-ADDRESS=克切拉禅修林 Lot 3189 Jalan Chamang Bentong Pahang 28700 Malaysia;X-APPLE-RADIUS=500;X-TITLE=Lot 3189\, Jalan Chamang:geo:101.875113,3.522285
ATTACH;FMTTYPE=image/jpeg:https://www.kecharaforestretreat.com/wp-content/uploads/2022/09/vow-teaching-article1-kfr-single-event-1440x768.jpg
END:VEVENT
END:VCALENDAR