BEGIN:VCALENDAR
VERSION:2.0
PRODID:-//克切拉禅修林 - ECPv4.8.1//NONSGML v1.0//EN
CALSCALE:GREGORIAN
METHOD:PUBLISH
X-WR-CALNAME:克切拉禅修林
X-ORIGINAL-URL:https://www.kecharaforestretreat.com/cn/
X-WR-CALDESC:Events for 克切拉禅修林
BEGIN:VEVENT
DTSTART;TZID=Asia/Kuala_Lumpur:20251214T160000
DTEND;TZID=Asia/Kuala_Lumpur:20251214T180000
DTSTAMP:20260419T125219
CREATED:20250925T174511Z
LAST-MODIFIED:20251001T065004Z
UID:59727-1765728000-1765735200@www.kecharaforestretreat.com
SUMMARY:2025年燃灯节
DESCRIPTION:\n.cmsmasters_icon_list_icon_wrap {\n  color: #f8f8f8;\n  padding-bottom: 30px;\n}\n.cmsmasters_icon_list_icon {\n  background-image: url(https://www.kecharaforestretreat.com/wp-content/uploads/2019/03/visitpage-icon-1-activities-candle.png);\n  background-size: 50px;\n  width: 100px;\n  height: 100px;\n  -webkit-border-radius: 50%;\n  border-radius: 50%;\n  opacity: 1;\n  background-position: center center;\n  background-repeat: no-repeat;\n  display: block;\n  text-align: center;\n  z-index: 2;\n  background-color: #f8f8f8;\n  margin: 1px auto;\n  position: relative;\n}\n.cmsmasters_icon_list_icon:after {\n  border-width: 1px;\n  width: 102px;\n  height: 102px;\n  -webkit-border-radius: 50%;\n  border-radius: 50%;\n  border-color: #dfdfdf;\n  content: '';\n  border-style: solid;\n  position: absolute;\n  top: -1px;\n  left: -1px;\n}\n\n@media screen and (max-width: 540px) {\n  .or {\n    display: block;\n  }\n}\n				#cmsmasters_gallery_69e4d0035481e6_11928593 .cmsmasters_gallery {\n					margin:0 0 0 -0px;\n				}\n				\n				#cmsmasters_gallery_69e4d0035481e6_11928593 .cmsmasters_gallery .cmsmasters_gallery_item {\n					padding:0 0 0px 0px;\n				}\n			\n\n\n\n\n\n\n\n\n\n献上智慧明灯\n纪念第二能仁宗喀巴大师\n宗喀巴大师成道日或称葛登阿曲，是纪念十四世纪创始藏传佛教格鲁派的大学者及圣贤——宗喀巴大师证道和涅槃的日子。宗喀巴大师成道日亦被称为燃灯节，落在藏历十月二十五日。 \n在殊胜的日子进行的任何善举和共修，所累积的功德比平日倍增十万倍，所以信众会在当天献上大量供养，以及参与上师荟供法会。共修法会等善行不仅强化佛弟子的修行，同时提醒弟子时时祈求传承上师赐予加持，在修行路上精进不懈。 \n诚邀于12月14日（周日），前来克切拉禅修林诵经共修，庆祝燃灯节。庆典将以传统的藏式宗教仪式法乐和唱诵，进行上师荟供法会。 \n  \n活动详情\n\n2025年12月14日（周日）\n下午4时至傍晚6时\n克切拉禅修林 + 脸书直播\n\n  \n\n\n活动时间表\n\n上午11时 讲法师更新戒律仪式\n下午4时 上师荟供法会\n傍晚5时30分 燃灯供佛\n傍晚6时 活动圆满结束\n\n  \n\n\n\n关于宗喀巴大师\n宗喀巴大师（1357至1419年）是藏传佛教格鲁派创始人。他以笃志向学，强大的上师依止心，以及创造许多弘法利生的大成就而闻名。其中的成就包括创建格鲁派三大寺院——甘丹寺，色拉寺和哲蚌寺；于1409年设立传昭大法会，以及编撰《菩提道次第广论》。 \n被尊称为第二能仁（第二佛陀）的宗喀巴大师，严持戒律，在佛法没落时致力并成功振兴佛教。 \n63岁时，宗喀巴大师入定和进行广大供养后圆寂。圆寂后，大师身色光彩，如十六岁身，显示圣者之圆寂相。 \n\n\n\n  \n 克切拉禅修林宗喀巴大师大佛像前，点满信众供养的蜡烛。 \n  \n\n\n燃灯节供养配套\n在这殊胜的日子，诚邀前来克切拉禅修林的长寿相宗喀巴大师佛像前供灯祈愿。我们提供的燃灯节供养配套，也包括詹杜固仁波切舍利塔灯供，让你获得传承上师的加持。 \n  \n\n\n \n善慧供养配套 | RM99\n\n供七盏灯予宗喀巴大师\n供三盏灯予詹杜固仁波切舍利塔\n\nWHATSAPP我们   或   线上供养\n\n \n慈悲供养配套 | RM180\n\n供九盏灯予宗喀巴大师\n供九盏灯予詹杜固仁波切舍利塔\n熏烟供予宗喀巴大师\n\nWHATSAPP我们   或   线上供养\n\n \n般若供养配套 | RM300\n\n供十八盏灯予宗喀巴大师\n供十盏灯予詹杜固仁波切舍利塔\n熏烟供予宗喀巴大师\n法会回向卡\n\nWHATSAPP我们   或   线上供养\n\n \n燃灯节法会赞助 | RM108\n\n上师荟供特别法会\n荟供供养\n法会回向卡\n\nWHATSAPP我们   或   线上供养\n\n \n单项供品\n\n灯供 RM10\n一尺香支 RM10\n放生 RM30\n荟供供养 RM30\n熏烟供 RM30\n一尺龙香（三支）RM38\n两尺半龙香（三支）RM88\n法会赞助 随喜乐捐\n\nWHATSAPP我们   或   线上供养\n–> \n\n\n  \n欲了解燃灯节供养服务和预购配套，请Whatsapp至wa.me/60103020999，或浏览services.kechara.com。 \n  \n配套订购将在12月14日（周日），下午4时30分(GMT +8)截止。\n我们将在燃灯节当天代你祈福和献上供养。\n克切拉成员或克切拉之友订购燃灯节供养配套，即可累积奖励积分。\n  \n\n\n				jQuery(document).ready(function () {\n					(function ($) {\n						if ($('#cmsmasters_gallery_69e4d0035481e6_11928593').find('.cmsmasters_gallery_item').length == '0') {\n							return false;\n						}\n						\n						\n						startGallery( \n							'69e4d0035481e6_11928593'\, \n							'grid'\, \n							'false'\, \n							'false' \n						);\n					} )(jQuery);\n				} );\n			\n			\n\n\n\n\n\n\n\n
URL:https://www.kecharaforestretreat.com/cn/event/tsongkhapaday/
LOCATION:克切拉禅修林\, Lot 3189\, Jalan Chamang\, Bentong\, Pahang\, 28700\, Malaysia
GEO:3.522285;101.875113
X-APPLE-STRUCTURED-LOCATION;VALUE=URI;X-ADDRESS=克切拉禅修林 Lot 3189 Jalan Chamang Bentong Pahang 28700 Malaysia;X-APPLE-RADIUS=500;X-TITLE=Lot 3189\, Jalan Chamang:geo:101.875113,3.522285
ATTACH;FMTTYPE=image/jpeg:https://www.kecharaforestretreat.com/wp-content/uploads/2024/10/20241105-kfr-tkpday-2024.jpg
END:VEVENT
END:VCALENDAR