BEGIN:VCALENDAR
VERSION:2.0
PRODID:-//Kechara Forest Retreat - ECPv4.8.1//NONSGML v1.0//EN
CALSCALE:GREGORIAN
METHOD:PUBLISH
X-WR-CALNAME:Kechara Forest Retreat
X-ORIGINAL-URL:https://www.kecharaforestretreat.com
X-WR-CALDESC:Events for Kechara Forest Retreat
BEGIN:VEVENT
DTSTART;TZID=Asia/Kuala_Lumpur:20220909T090000
DTEND;TZID=Asia/Kuala_Lumpur:20220909T180000
DTSTAMP:20260419T155143
CREATED:20220804T190553Z
LAST-MODIFIED:20220908T095708Z
UID:54343-1662714000-1662746400@www.kecharaforestretreat.com
SUMMARY:10\,000 Offering Kalarupa Puja
DESCRIPTION:Join us on Friday\, 9th September 2022 for an extensive Kalarupa puja which will generate a powerful wave of merits for the successful search and recognition of H.E. the 26th Tsem Rinpoche! \nAlso known as Drugchuma which literally means “64 Offerings”\, this puja includes an abundance of torma offerings (1\,000 in total!) to overcome the most difficult challenges and dispel tremendous obstacles. These tormas (ritual cakes) will be offered to the Dharma Protector Kalarupa who is a wrathful emanation of Wisdom Buddha Manjushri. \n  \nEvent Details\n\nSep 9\, 2022 (Fri)\n9.00 am – 12.00 pm (morning session)\n3.00 pm – 6.00 pm (afternoon session)\nKechara Forest Retreat\nFree. RSVP here as seating is limited.\n\nThe puja will be conducted by visiting Sangha from Shar Gaden\, Serpom\, Phelgyeling and Segyu monasteries\, and led by His Eminence Kensur Rinpoche Jetsun Lobsang Phende and other high lamas and esteemed geshes. \n  \nBenefits for sponsors and attendees\nParticipating in this puja and reciting the offering mantra will help you: \n\nClear obstacles in your life path\nDispel spirit disturbances and black magic\nSubdue anger\, jealousy\, fear\, hatred and pride\nDevelop profound wisdom for your spiritual growth\n\nFurthermore\, this is one of the pujas recommended by H.E. Kensur Rinpoche Lobsang Phende to clear huge obstacles\, purify negative karma and generate tremendous merits for the successful search and recognition of H.E. Tsem Rinpoche’s new incarnation. \n  \nHow you can participate\nAdmission to the puja is free and all are welcome to attend. You can attend just one session\, or multiple sessions. If you are attending\, you may wish to offer kuyong (a token monetary offering) to the Sangha who will be conducting the puja. \nTo ensure we have enough seating for all guests\, please RSVP your attendance here. \n  \nHow you can contribute\nWe seek your kind sponsorship to cover the costs of this and other pujas held in conjunction with Tsem Rinpoche’s Parinirvana Anniversary and Relic Stupa consecration ceremony. \n\nOrdinary sponsor: RM30\nSpecial sponsor: RM150\nBronze sponsor: RM300\nSilver sponsor: RM750\nGold sponsor: RM1\,500\nDiamond sponsor: RM3\,000\nGrand sponsor: RM5\,000\n\nMost pujas will be performed in Kechara Forest Retreat from mid-August to mid-October 2022. Your donation will help us with the cost of: \n\nPuja offerings\nRitual substances\nFood and travel for visiting Sangha\nTemple upkeep and overheads\n\nDonate online to the Tsem Rinpoche Parinirvana Anniversary Fund at VajraSecrets.com or WhatsApp us at wa.me/60103020999. Any amount is welcome and deeply appreciated. \n  \nWho is Kalarupa?\nKalarupa is the wrathful form of the Buddha of Wisdom\, Manjushri\, who personifies enlightenment by the conquest of anger. He is the direct spiritual protector force for all “ugliness” arising from the true inner spiritual obstacles of fear\, hatred\, pride and jealousy. \n
URL:https://www.kecharaforestretreat.com/event/10000-offering-kalarupa-puja-2022/
LOCATION:Kechara Forest Retreat\, Lot 3189\, Jalan Chamang\, Bentong\, Pahang\, 28700\, Malaysia
GEO:3.522285;101.875113
X-APPLE-STRUCTURED-LOCATION;VALUE=URI;X-ADDRESS=Kechara Forest Retreat Lot 3189 Jalan Chamang Bentong Pahang 28700 Malaysia;X-APPLE-RADIUS=500;X-TITLE=Lot 3189\, Jalan Chamang:geo:101.875113,3.522285
ATTACH;FMTTYPE=image/jpeg:https://www.kecharaforestretreat.com/wp-content/uploads/2022/08/20220803-kfr-kalarupa-puja-single-event.jpg
END:VEVENT
END:VCALENDAR