BEGIN:VCALENDAR
VERSION:2.0
PRODID:-//Kechara Forest Retreat - ECPv4.8.1//NONSGML v1.0//EN
CALSCALE:GREGORIAN
METHOD:PUBLISH
X-WR-CALNAME:Kechara Forest Retreat
X-ORIGINAL-URL:https://www.kecharaforestretreat.com
X-WR-CALDESC:Events for Kechara Forest Retreat
BEGIN:VEVENT
DTSTART;TZID=Asia/Kuala_Lumpur:20220924T090000
DTEND;TZID=Asia/Kuala_Lumpur:20220924T180000
DTSTAMP:20260419T154942
CREATED:20220815T191058Z
LAST-MODIFIED:20220908T151421Z
UID:54498-1664010000-1664042400@www.kecharaforestretreat.com
SUMMARY:10\,000 Tara Puja
DESCRIPTION:Join us on 24th September for recitation of prayers calling on the supreme blessings of the 21 Taras. \nTara is the most popular female Buddha in the Tibetan Buddhist world. She appears in 21 forms to help anyone who requests her assistance. Whether you seek healing\, resources for financial and spiritual growth\, protection from harm\, help to overcome fear and depression\, and so on — there is a form of Tara who manifested specifically to provide for your every need. \nWe encourage you to join us to accumulate as many prayer recitations as possible\, to generate an ocean of positive potential and forge a closer connection with compassionate Mother Tara so she can help you in your time of greatest need. \n  \nEvent Details\n\nSep 24\, 2022 (Sat)\n9.00 am – 12.00 pm (morning session)\n3.00 pm – 6.00 pm (afternoon session)\nKechara Forest Retreat\nFree admission. RSVP here as seating is limited.\n\nThe puja will be conducted by visiting Sangha from Shar Gaden\, Serpom\, Phelgyeling and Segyu monasteries\, and led by His Eminence Kensur Rinpoche Jetsun Lobsang Phende and other high lamas and esteemed geshes. \n  \nBenefits for sponsors and attendees\nReciting the Praise to the 21 Taras brings great benefits including: \n\nAttracting wealth and resources\nHealing body and mind\nProlonging life\nCalming infectious diseases\nDispelling conflict and bad dreams\nPacifying negative situations\nPurifying obscurations and negativities\nOvercoming hindrances\nProtection from black magic\, spirits\, evil and harm\nSwift assistance for spiritual progress\n\nFurthermore\, this is one of the pujas recommended by H.E. Kensur Rinpoche Lobsang Phende to clear huge obstacles\, purify negative karma and generate tremendous merits for the successful search and recognition of H.E. Tsem Rinpoche’s new incarnation. \n  \nHow you can participate\nAdmission to the puja is free and all are welcome to attend. You can attend just one session\, or multiple sessions. If you are attending\, you may wish to offer kuyong (a token monetary offering) to the Sangha who will be conducting the puja. \nTo ensure we have enough seating for all guests\, please RSVP your attendance here. \n  \nHow you can contribute\nWe seek your kind sponsorship to cover the costs of this and other pujas held in conjunction with Tsem Rinpoche’s Parinirvana Anniversary and Relic Stupa consecration ceremony. \n\nOrdinary sponsor: RM30\nSpecial sponsor: RM150\nBronze sponsor: RM300\nSilver sponsor: RM750\nGold sponsor: RM1\,500\nDiamond sponsor: RM3\,000\nGrand sponsor: RM5\,000\n\nMost pujas will be performed in Kechara Forest Retreat from mid-August to mid-October 2022. Your donation will help us with the cost of: \n\nPuja offerings\nRitual substances\nFood and travel for visiting Sangha\nTemple upkeep and overheads\n\nDonate online to the Tsem Rinpoche Parinirvana Anniversary Fund at VajraSecrets.com or WhatsApp us at wa.me/60103020999. Any amount is welcome and deeply appreciated. \n  \nWho are the 21 Taras?\nTara is the female Buddha of enlightened activity in all its forms — pacifying\, increasing\, controlling and wrathful. She made a special vow to always return in a female body to benefit sentient beings. Thus\, her innumerable forms reflect the many needs of sentient beings\, including protection\, long life\, peace\, overcoming obstacles\, and ultimately granting both common and supreme attainments. \n
URL:https://www.kecharaforestretreat.com/event/10000-tara-puja-2022/
LOCATION:Kechara Forest Retreat\, Lot 3189\, Jalan Chamang\, Bentong\, Pahang\, 28700\, Malaysia
GEO:3.522285;101.875113
X-APPLE-STRUCTURED-LOCATION;VALUE=URI;X-ADDRESS=Kechara Forest Retreat Lot 3189 Jalan Chamang Bentong Pahang 28700 Malaysia;X-APPLE-RADIUS=500;X-TITLE=Lot 3189\, Jalan Chamang:geo:101.875113,3.522285
ATTACH;FMTTYPE=image/jpeg:https://www.kecharaforestretreat.com/wp-content/uploads/2022/08/20220815-kfr-tara-puja-single-event.jpg
END:VEVENT
END:VCALENDAR