BEGIN:VCALENDAR
VERSION:2.0
PRODID:-//Kechara Forest Retreat - ECPv4.8.1//NONSGML v1.0//EN
CALSCALE:GREGORIAN
METHOD:PUBLISH
X-WR-CALNAME:Kechara Forest Retreat
X-ORIGINAL-URL:https://www.kecharaforestretreat.com
X-WR-CALDESC:Events for Kechara Forest Retreat
BEGIN:VEVENT
DTSTART;TZID=Asia/Kuala_Lumpur:20251108T093000
DTEND;TZID=Asia/Kuala_Lumpur:20251108T180000
DTSTAMP:20260419T230740
CREATED:20241107T165032Z
LAST-MODIFIED:20241107T165032Z
UID:58566-1762594200-1762624800@www.kecharaforestretreat.com
SUMMARY:Advanced Buddhist Ritual Workshop
DESCRIPTION:\n\n\n\n\n\n\nTake the next step towards ritual mastery\nAlready using simple mudras and ritual instruments in your daily sadhana and looking to progress to the next level? \nEnhance your meditational practices by learning advanced mudras (sacred hand gestures) according to the tradition of Gaden Shartse Monastery. This fun\, hands-on workshop will give you the knowledge and confidence to incorporate advanced techniques into your daily sadhana and retreats\, bridging body and mind and giving your practice more meaning and depth. \nLed by our experienced Buddhist sangha and pastors\, this course is suitable for intermediate and higher level practitioners who want to increase their ritual skills for extended sadhana practice. \n  \nEvent Details\n\n8 November 2025 (Sat)\n9.30 am – 6.00 pm\n\nView programme details\, fees\, and booking info. \nRegistration closes Wednesday 5 November\, 2025\n\n\n\n\n\n\n\n\n
URL:https://www.kecharaforestretreat.com/event/advancedbuddhistritualworkshop-nov2025/
LOCATION:Kechara Forest Retreat\, Lot 3189\, Jalan Chamang\, Bentong\, Pahang\, 28700\, Malaysia
GEO:3.522285;101.875113
X-APPLE-STRUCTURED-LOCATION;VALUE=URI;X-ADDRESS=Kechara Forest Retreat Lot 3189 Jalan Chamang Bentong Pahang 28700 Malaysia;X-APPLE-RADIUS=500;X-TITLE=Lot 3189\, Jalan Chamang:geo:101.875113,3.522285
ATTACH;FMTTYPE=image/jpeg:https://www.kecharaforestretreat.com/wp-content/uploads/2024/02/20240206-kfr-advanced-buddhist-ritual-event.jpg
END:VEVENT
END:VCALENDAR