BEGIN:VCALENDAR
VERSION:2.0
PRODID:-//Kechara Forest Retreat - ECPv4.8.1//NONSGML v1.0//EN
CALSCALE:GREGORIAN
METHOD:PUBLISH
X-WR-CALNAME:Kechara Forest Retreat
X-ORIGINAL-URL:https://www.kecharaforestretreat.com
X-WR-CALDESC:Events for Kechara Forest Retreat
BEGIN:VEVENT
DTSTART;TZID=Asia/Kuala_Lumpur:20220824T183000
DTEND;TZID=Asia/Kuala_Lumpur:20220824T210000
DTSTAMP:20260419T213037
CREATED:20220801T095740Z
LAST-MODIFIED:20220801T145705Z
UID:54263-1661365800-1661374800@www.kecharaforestretreat.com
SUMMARY:Dorje Shugden Day
DESCRIPTION:Join us to celebrate International Dorje Shugden Day with a peaceful fire puja for abundance\, prosperity\, longevity and wish-fulfilment! \n  \nEvent Details\n\nAug 24\, 2022 (Wed)\n6.30 pm – 9.00 pm\nKechara Forest Retreat\nFree admission. RSVP here as seating is limited.\n\n  \nFULL PROGRAMME\n\n10.00 am – 11.00 am Prayer Flag + Smoke Offering at the Dorje Shugden grotto\n6.30 pm – 9.00 pm Shize Fire Puja at Medicine Buddha Hill\n\n  \nBenefits for Sponsors and Attendees\n\nPrayer flag offering is a Tibetan cultural tradition to bring positive energy\, happiness and peace\, and send prayers and blessings on the winds.\nSmoke offering is an auspicious ritual to request Dorje Shugden for blessings\, good conditions and fulfilment of wishes.\nThe Shize Peaceful Fire Puja is highly beneficial for healing from illness and disease\, especially during this time of the pandemic. It is also effective for:\n\nPacifying obstacles and problems\nPurifying past negative deeds and negative karma\nCalming the environment\, natural disasters and calamities\nHelping the deceased to take a good rebirth\nAccumulating merits for spiritual realisations and attainments.\n\n\n\nThe peaceful fire puja calls upon Shize (Dorje Shugden’s pacifying form) to fulfil wishes through peaceful methods.\nThese pujas are recommended by His Eminence Kensur Rinpoche Lobsang Phende\, the abbot emeritus of Shar Gaden Monastery\, to generate tremendous merits dedicated to the successful search and recognition of H.E. Tsem Rinpoche’s new incarnation. \nThe prayers will be led by Venerable Gen Usu-la Lobsang Jinpa\, the chantmaster emeritus of Shar Gaden Monastery\, as well as Venerable Geshe Jangchup Gyaltsen. \nCollectively\, these three pujas are a celebration of Dorje Shugden’s blessings and are highly beneficial for all sponsors and attendees. \n  \nHow you can participate\nAdmission to the puja is free and all are welcome to attend. If you are attending\, you may wish to offer kuyong (a token monetary offering) to the Sangha who will be conducting the puja. \nAs seating at the fire puja site is limited\, please RSVP your attendance here. \n  \nHow you can contribute\nWe seek your kind sponsorship to cover the costs of this and other pujas held in conjunction with Tsem Rinpoche’s Parinirvana Anniversary and Relic Stupa consecration ceremony. \n\nOrdinary sponsor: RM30\nSpecial sponsor: RM150\nBronze sponsor: RM300\nSilver sponsor: RM750\nGold sponsor: RM1\,500\nDiamond sponsor: RM3\,000\nGrand sponsor: RM5\,000\n\nMost pujas will be performed in Kechara Forest Retreat from mid-August to mid-October 2022. Your donation will help us with the cost of: \n\nPuja offerings\nRitual substances\nFood and travel for visiting Sangha\nTemple upkeep and overheads\n\nDonate online to the Tsem Rinpoche Parinirvana Anniversary Fund at VajraSecrets.com or WhatsApp us at wa.me/60103020999. Any amount is welcome and deeply appreciated. \nMany traditional substances are burnt during the fire puja to clear obstacles and purify negative karma.\n  \nWho is Dorje Shugden?\nDorje Shugden is a Tibetan guardian deity who has swiftly helped many. Regarded as the ‘World Peace Protector’\, he brings success and wish-fulfilment to all who invoke upon him. Many have testified to his swift and benevolent power as a healer\, a provider of spiritual and material opportunities\, a defender from negative elements and a source of bliss and harmony in the home. Dorje Shugden’s pacifying form\, known as Shize\, is called upon to invoke the energy of peace and to fulfil wishes through peaceful methods. \nTHERE’S REALLY NO BETTER PLACE TO CELEBRATE DORJE SHUGDEN DAY THAN IN KECHARA FOREST RETREAT\, WHICH IS HOME TO THE WORLD’S LARGEST DORJE SHUGDEN STATUE.\nFor more information\, WhatsApp us at +6010 3020 999 or visit our online partner VajraSecrets.com for the widest selection of Dorje Shugden items. \nSmoke offerings at the Dorje Shugden grotto.\n
URL:https://www.kecharaforestretreat.com/event/dorje-shugden-day-2022/
LOCATION:Kechara Forest Retreat\, Lot 3189\, Jalan Chamang\, Bentong\, Pahang\, 28700\, Malaysia
GEO:3.522285;101.875113
X-APPLE-STRUCTURED-LOCATION;VALUE=URI;X-ADDRESS=Kechara Forest Retreat Lot 3189 Jalan Chamang Bentong Pahang 28700 Malaysia;X-APPLE-RADIUS=500;X-TITLE=Lot 3189\, Jalan Chamang:geo:101.875113,3.522285
ATTACH;FMTTYPE=image/jpeg:https://www.kecharaforestretreat.com/wp-content/uploads/2022/07/20220731-kfr-ds-day-single-event.jpg
END:VEVENT
END:VCALENDAR