BEGIN:VCALENDAR
VERSION:2.0
PRODID:-//Kechara Forest Retreat - ECPv4.8.1//NONSGML v1.0//EN
CALSCALE:GREGORIAN
METHOD:PUBLISH
X-WR-CALNAME:Kechara Forest Retreat
X-ORIGINAL-URL:https://www.kecharaforestretreat.com
X-WR-CALDESC:Events for Kechara Forest Retreat
BEGIN:VEVENT
DTSTART;TZID=Asia/Kuala_Lumpur:20221105T093000
DTEND;TZID=Asia/Kuala_Lumpur:20221105T140000
DTSTAMP:20260420T021344
CREATED:20211031T120051Z
LAST-MODIFIED:20221028T091243Z
UID:52258-1667640600-1667656800@www.kecharaforestretreat.com
SUMMARY:HEAL: Body Mind Spirit
DESCRIPTION:BE WELL FROM THE INSIDE OUT\nTibet is home to one of the world’s oldest healing traditions\, based on the principles of karma and the interconnectedness of body\, mind and spirit. Wellness cannot exist if any of these three elements are out of balance. \nHEAL: Body Mind Spirit allows you to explore holistic Tibetan practices that can help eliminate negative karma and create positive energy for inner and outer wellbeing. Each month features different activities including holistic healing therapies\, meaningful community work to purify the body\, and basic Buddhist philosophy to develop a positive mind and spirit. \n  \nEvent Details\n\n5 November 2022 (Saturday)\n9:30 am – 2:00 pm\nKechara Forest Retreat\n\n  \nProgramme\n\n9.30 am – Lama Tsongkhapa statue cleaning\n11.00 am – Break\n11.30 am – Polishing butterlamps\n1.00 pm – Lunch\n2.00 pm – End\n\nInterested? WhatsApp us at +6010 3020 999 to RSVP your place (and lunch!). \nPARTICIPATION IS FREE. GUESTS ARE REQUESTED TO CONTRIBUTE TOWARDS THE COSTS OF FOOD & REFRESHMENTS. PLEASE OBSERVE SOCIAL DISTANCING\, WEAR FACE MASKS AND COMPLY WITH OFFICIAL SOPS TO ENSURE EVERYONE’S SAFETY AND HEALTH.\n
URL:https://www.kecharaforestretreat.com/event/healbodymindspirit-nov2022/
LOCATION:Kechara Forest Retreat\, Lot 3189\, Jalan Chamang\, Bentong\, Pahang\, 28700\, Malaysia
GEO:3.522285;101.875113
X-APPLE-STRUCTURED-LOCATION;VALUE=URI;X-ADDRESS=Kechara Forest Retreat Lot 3189 Jalan Chamang Bentong Pahang 28700 Malaysia;X-APPLE-RADIUS=500;X-TITLE=Lot 3189\, Jalan Chamang:geo:101.875113,3.522285
ATTACH;FMTTYPE=image/jpeg:https://www.kecharaforestretreat.com/wp-content/uploads/2020/12/ss2021-jan-heal-kfr-event-banner.jpg
END:VEVENT
END:VCALENDAR