BEGIN:VCALENDAR
VERSION:2.0
PRODID:-//Kechara Forest Retreat - ECPv4.8.1//NONSGML v1.0//EN
CALSCALE:GREGORIAN
METHOD:PUBLISH
X-WR-CALNAME:Kechara Forest Retreat
X-ORIGINAL-URL:https://www.kecharaforestretreat.com
X-WR-CALDESC:Events for Kechara Forest Retreat
BEGIN:VEVENT
DTSTART;TZID=Asia/Kuala_Lumpur:20251101T093000
DTEND;TZID=Asia/Kuala_Lumpur:20251101T133000
DTSTAMP:20260420T021127
CREATED:20241211T174042Z
LAST-MODIFIED:20251006T173137Z
UID:58793-1761989400-1762003800@www.kecharaforestretreat.com
SUMMARY:HEAL with Pets
DESCRIPTION:\n\n\n\n\n\n\n  \n\n\n\n\n\n\n\n\n\n\n\n\n\n\nSpend a morning with your furkid enjoying a meditation session together — a pawsitively peaceful experience where you and your furry bestie can slow down\, breathe\, and connect through the wisdom of Tibetan Buddhism in nature’s embrace. \nWhether you’re a seasoned meditator or totally new\, this is a beautiful way to bond with your doggo while exploring inner peace. \n  \nEvent Details\n\n1 Nov 2025 (Sat)\n9.30 am – 1.30 pm\nKechara Forest Retreat\, Bentong\nPlease RSVP here (minimum donation applies)\n\n  \nProgramme\n\n9.00 am Registration opens\n9.30 am Session 1\n10.45 am Break\n11.15 am Session 2\n12.15 pm Lunch\n1.30 pm End\n\n  \n\n\nWhy meditate with dogs?\nIt’s pawsome for hoomans.\n\nDe-stress in the tranquil natural forest\nLearn simple Tibetan Buddhist techniques for calm & clarity\nDeepen your connection with your beloved pet\n\n  \nIt’s pawsome for doggos too!\n\nEnjoy mindful moments & gentle interactions\nFeel your hooman’s peaceful energy = happy tail wags\nMeet new furriends in a calm\, loving space\n\n  \nProgramme includes:\n\nBreathing meditation\, mantra meditation & healing meditation\nQ&A on spiritual pet care\nYummy vegetarian lunch (for pawrents only)\n\n  \n\n\nWho can join\n\nSmall doggos (under 10kg).\nEvery doggo must be accompanied by a dedicated pawrent.\nMaximum 2 pawrents per doggo.\nAll pawticipants must follow the Pet & Pawrent Guidelines.\n\n  \n\n\nWhat to Bring?\n\nYoga mat or sitting mat (for you and your doggo)\nPet carrier/bag\nLeash\nPet snacks\, water & water bowl\nPawrents may also wish to bring along a hat\, sunglasses\, sunscreen & mosquito repellant to stay comfortable outdoors.\n\n  \nInterested? WhatsApp wa.me/60103020999 to RSVP your place (and lunch!). \n  \n\n\n\n\n\n\n\n\n\n\n\n\n\n\n  \n\n\n\n\n\n\n\n\n\n\n\n\n\n\n\n  \nPet & Pawrent Guidelines for a Pawsitive Experience\nSmall Paws Only\, Please! \n\nTo keep things comfy and safe for everyone\, only small dogs under 10kg are allowed.\nWe kindly ask that all pets arrive in a carrier and wear a diaper at all times for hygiene purposes. Accidents do happen no matter how well-trained your pet is\, and an accident during a meditation session will disturb other participants.\nTo ensure a smooth experience\, we follow a one pet per owner policy\, with a maximum of two owners per pet.\n\n  \nCreating a Calm Space for All \n\nTo help everyone fully enjoy the meditation experience\, please ensure your pet is comfortable around both humans and other pets.\nIt’s helpful if they can follow basic commands like sit\, stay and no.\n\n  \nBring Your Mat & Leash Up the Vibes \n\nBring your own yoga or sitting mat (for you and your pet). Mats will not be provided.\nOnce you’re settled in\, your pet is welcome to come out of the carrier\, but keep them on a leash and on your mat for everyone’s comfort and safety. Otherwise they may wander off without you realising (especially since your eyes will be closed during the meditation session!)\n\n  \nSupport the Temple \n\nWe request a contribution of RM80 per person / RM150 for two people (this includes a delicious vegetarian lunch for pawrents to keep those tummies happy!)\n\n  \nGood Food\, Good Mood \n\nYou’re welcome to bring snacks\, water and water bowls for your pet.\nWe also provide water and bowls for your convenience.\nOutside food for humans is not allowed.\n\n  \nHealthy Woofs\, Happy Hoomans \n\nFor the well-being of all furriends\, we recommend that your pet is up-to-date on vaccinations and is on a regular flea and tick prevention plan.\n\n  \nPotty Breaks with Courtesy \n\nPlease guide your furkid to use the designated pet toilet areas\, and remember to clean up after them.\nWaste bins are provided to make it easy for you to dispose of any mess responsibly.\n\n  \nPet-Friendly Zones \n\nFor hygiene reasons\, only our outdoor areas are pet-friendly. We appreciate your understanding!\n\n  \nStay Close\, Stay Safe \n\nYour pet should be leashed (unless in the designated off-leash area) and always accompanied by their human. It helps ensure everyone stays safe and happy.\n\n  \nGentle Reminders from Our Pet Marshalls \n\nTo keep the space welcoming and clean for all\, our pet marshalls may step in to ensure rules are followed.\nIf necessary\, a gentle penalty may apply\, with all proceeds going to support animal welfare initiatives:\n\nPenalties range between RM10 – RM50\nIn rare cases\, we may need to ask a pet and their owner to leave the premises\n\n\n\n  \nLet’s all work together to create a peaceful\, furbulous environment where everyone can relax\, connect\, and enjoy. Thank you for your cooperation and care! \n  \n\n\n\n\n\n\n\n\n\n\n\n\n\n\nLunch is included as part of the programme. Guests are requested to contribute towards the costs of food & programme materials. See all terms of participation.\nThis event is part of HEAL: Body Mind Spirit — a monthly programme based on the principles of Tibetan holistic wellness. Each month features different activities including holistic healing therapies\, meaningful community work to purify the body\, and basic Buddhist philosophy to develop a positive mind and spirit.\n\n\n\n\n\n\n\n\n
URL:https://www.kecharaforestretreat.com/event/healbodymindspirit-nov2025/
LOCATION:Kechara Forest Retreat\, Lot 3189\, Jalan Chamang\, Bentong\, Pahang\, 28700\, Malaysia
GEO:3.522285;101.875113
X-APPLE-STRUCTURED-LOCATION;VALUE=URI;X-ADDRESS=Kechara Forest Retreat Lot 3189 Jalan Chamang Bentong Pahang 28700 Malaysia;X-APPLE-RADIUS=500;X-TITLE=Lot 3189\, Jalan Chamang:geo:101.875113,3.522285
ATTACH;FMTTYPE=image/jpeg:https://www.kecharaforestretreat.com/wp-content/uploads/2022/12/20221221-kfr-HEAL2022-event.jpg
END:VEVENT
END:VCALENDAR