BEGIN:VCALENDAR
VERSION:2.0
PRODID:-//Kechara Forest Retreat - ECPv4.8.1//NONSGML v1.0//EN
CALSCALE:GREGORIAN
METHOD:PUBLISH
X-WR-CALNAME:Kechara Forest Retreat
X-ORIGINAL-URL:https://www.kecharaforestretreat.com
X-WR-CALDESC:Events for Kechara Forest Retreat
BEGIN:VEVENT
DTSTART;TZID=Asia/Kuala_Lumpur:20221015T090000
DTEND;TZID=Asia/Kuala_Lumpur:20221016T210000
DTSTAMP:20260419T213647
CREATED:20220523T162711Z
LAST-MODIFIED:20220713T131338Z
UID:53838-1665824400-1665954000@www.kecharaforestretreat.com
SUMMARY:Practice Weekend: Taking Refuge
DESCRIPTION:\n\n\n\n\n\n\nTake your practice to the next level\nIt’s important to view Dharma practice as a gradual process of mental development. One step\, properly completed\, will naturally lead to the next. Likewise\, of all the preliminary practices\, Taking Refuge is the first that we should complete. \nWhy refuge? Because it’s the basis of all Buddhist practice. It provides a firm foundation on which all other practices are based\, and the incredible conviction to put all other Dharma teachings into practice on our journey towards enlightenment. \n\n“Buddha\, Dharma and Sangha\nAre the refuge for seekers of liberation.”\n– The Seventy Verses on Taking Refuge – \n\nThe Preliminaries Practice Group + Practice Weekend Programme is geared towards helping you successfully complete your preliminary practices. The aim of the 2022 group is to complete the Refuge Preliminary (100\,000 recitations) within one year or less\, through a combination of group + individual practice\, with guidance + support from our pastors\, and encouragement from fellow retreatants. \nPractice Weekends are fully guided by our pastors to facilitate better meditation. This includes the ordinary preliminaries to supplement and strengthen your practice of refuge. The first Practice Weekend (July 2022) includes a Kalarupa puja to clear obstacles for your preliminary\, and the very first session will be done together as a group for an incredibly auspicious start! \n  \nEvent Details\n\n15 – 16 October 2022 (Sat – Sun)\nOnline (Google Meet)\n\nView programme details\, fees\, and booking info. \n\n\n\n\n\n\n\n\n
URL:https://www.kecharaforestretreat.com/event/practice-weekend-oct2022/
ATTACH;FMTTYPE=image/jpeg:https://www.kecharaforestretreat.com/wp-content/uploads/2022/05/20220519-KEC-PracticeWeekend-TakingRefuge-kfr-kec-single-event.jpg
END:VEVENT
END:VCALENDAR