BEGIN:VCALENDAR
VERSION:2.0
PRODID:-//Kechara Forest Retreat - ECPv4.8.1//NONSGML v1.0//EN
CALSCALE:GREGORIAN
METHOD:PUBLISH
X-WR-CALNAME:Kechara Forest Retreat
X-ORIGINAL-URL:https://www.kecharaforestretreat.com
X-WR-CALDESC:Events for Kechara Forest Retreat
BEGIN:VEVENT
DTSTART;TZID=Asia/Kuala_Lumpur:20220403T103000
DTEND;TZID=Asia/Kuala_Lumpur:20220403T130000
DTSTAMP:20260421T081244
CREATED:20220227T173137Z
LAST-MODIFIED:20220402T130431Z
UID:52995-1648981800-1648990800@www.kecharaforestretreat.com
SUMMARY:Qing Ming 2022
DESCRIPTION:\n.cmsmasters_icon_list_icon_wrap {\n  color: #f8f8f8;\n  padding-bottom: 30px;\n}\n.cmsmasters_icon_list_icon {\n  background-image: url(https://www.kecharaforestretreat.com/wp-content/uploads/2019/03/visitpage-icon-1-activities-candle.png);\n  background-size: 50px;\n  width: 100px;\n  height: 100px;\n  -webkit-border-radius: 50%;\n  border-radius: 50%;\n  opacity: 1;\n  background-position: center center;\n  background-repeat: no-repeat;\n  display: block;\n  text-align: center;\n  z-index: 2;\n  background-color: #f8f8f8;\n  margin: 1px auto;\n  position: relative;\n}\n.cmsmasters_icon_list_icon:after {\n  border-width: 1px;\n  width: 102px;\n  height: 102px;\n  -webkit-border-radius: 50%;\n  border-radius: 50%;\n  border-color: #dfdfdf;\n  content: '';\n  border-style: solid;\n  position: absolute;\n  top: -1px;\n  left: -1px;\n}\n\n@media screen and (max-width: 540px) {\n  .or {\n    display: block;\n  }\n}\n\n.no-bullets li {\n  text-align: center;\n}\n\n.bub1 {\n  margin-bottom: 20px;\n  line-height: 1;\n  text-align: center;\n}\n.bub1 h4\, .bub1 > div {\n  display: inline-block; margin-bottom: 0px;\n}\n.bub1-inner {\n  color: #da3228;\n}\n.bub1 .left {\n  font-size: 0.75rem;\n  font-weight: bold;\n}\n.bub1 .mid {\n  font-size: 0.6rem;\n  font-weight: bold;\n}\n.bub1 .right {\n  font-size: 0.75rem;\n  font-weight: bold;\n}\n\n\n\n\n\n\n\nFilial piety is a big aspect of Chinese culture. No matter where they are in the world\, Chinese children are brought up from an early age to respect\, support and honour their parents and elders\, including their ancestors who have passed away. \nThus\, festivals for honouring deceased loved ones — like Qing Ming — are among the biggest events in the Chinese cultural calendar. \nTraditionally\, Qing Ming or Tomb-Sweeping Day is observed by cleaning the burial sites of the dearly departed followed by prayers and offerings to bring them good fortune in the afterlife. \nAccording to Buddhist tenets\, we can send even more good fortune and blessings to our dearly departed by making prayers and offerings to the enlightened beings and dedicating the merits to them. \nSo make this coming Qing Ming a meritorious affair with a Special Remembrance Puja and Qing Ming offerings at Kechara Forest Retreat. \n  \nQing Ming Remembrance Puja\n\nSunday\, 3 April 2022\n10.30 am – 1.00 pm (GMT +8)\nKechara Forest Retreat | Livestream\n\n  \nProgramme Details\n\n10.30 am: Lama Chopa puja\n12.30 pm: Light offering ceremony\n\n  \nThis Qing Ming\, dedicate great merits to your dearly departed.\n\n  \n\n\n\n\n\n\n\n\n\n\n\n\n\n\n\n\n\nQing Ming Offerings\nSend great merits\, blessings and good fortune to your dearly departed with our Qing Ming offering packages. Our resident pastors will make prayers and offerings on your behalf\, and dedicate the merits according to your wishes. \n\n\n \n\nCARING PACKAGE – RM60\n(SAVE RM18)\n\n\n1 x Qing Ming Tablet\n1 x 1-ft Dragon Incense (set of 3)\n1 x Light Offering\n\nWHATSAPP US   OR   DONATE ONLINE\n\n \n\nLOVING PACKAGE – RM120\n(SAVE RM48)\n\n\n1 x Qing Ming Tablet\n1 x 1-ft Dragon Incense (set of 3)\n1 Month Light Offerings\n\nWHATSAPP US   OR   DONATE ONLINE\n\n \n\nFILIAL PACKAGE – RM180\n(SAVE RM56)\n\n\n2 x Qing Ming Tablets\n2 x 1-ft Dragon Incense (set of 3)\n1 Month Light Offerings\n\nWHATSAPP US   OR   DONATE ONLINE\n\n \n\nREMEMBRANCE PACKAGE – RM399\n(SAVE RM121)\n\n\n5 x Qing Ming Tablets\n5 x 1-ft Dragon Incense (set of 3)\n1 Month Light Offerings\n1 x Mantra Stone\n\nWHATSAPP US   OR   DONATE ONLINE\n\n \n\n\nA LA CARTE OFFERINGS\n\n\nCandle offering – RM10\n1-ft incense – RM10\nQing Ming tablet – RM30\n1-ft dragon incense (set of 3) – RM38\n2.5-ft dragon incense (set of 3) – RM88\nMedicine Buddha Qing Ming Puja – RM300\nQing Ming Remembrance Puja sponsorship – any amount\n\nWHATSAPP US   OR   DONATE ONLINE\n  \n\n\n\n\n\n\n\n\n\n\n\n\n\n\nTo learn more about our Qing Ming offering service and to pre-order your package\, visit VajraSecrets.com or WhatsApp +6010 3020 999. \n\nORDERS CLOSE 10 APRIL 2022.\nOFFERINGS AND PUJAS FOR ORDERS PLACED BY 2 APRIL WILL BE PERFORMED ON YOUR BEHALF ON 3 APRIL 2022.\nALL OTHER ORDERS WILL BE FULFILLED BY 12 APRIL 2022.\nIf you’re a Kechara Member or Kechara Friend\, you can collect Reward Points for your Qing Ming offerings.\n  \n\n\n\n\n\n\n\n\n
URL:https://www.kecharaforestretreat.com/event/qingming2022/
LOCATION:Kechara Forest Retreat\, Lot 3189\, Jalan Chamang\, Bentong\, Pahang\, 28700\, Malaysia
GEO:3.522285;101.875113
X-APPLE-STRUCTURED-LOCATION;VALUE=URI;X-ADDRESS=Kechara Forest Retreat Lot 3189 Jalan Chamang Bentong Pahang 28700 Malaysia;X-APPLE-RADIUS=500;X-TITLE=Lot 3189\, Jalan Chamang:geo:101.875113,3.522285
ATTACH;FMTTYPE=image/jpeg:https://www.kecharaforestretreat.com/wp-content/uploads/2022/02/kfr-qingming2022-banner.jpg
END:VEVENT
END:VCALENDAR