BEGIN:VCALENDAR
VERSION:2.0
PRODID:-//Kechara Forest Retreat - ECPv4.8.1//NONSGML v1.0//EN
CALSCALE:GREGORIAN
METHOD:PUBLISH
X-WR-CALNAME:Kechara Forest Retreat
X-ORIGINAL-URL:https://www.kecharaforestretreat.com
X-WR-CALDESC:Events for Kechara Forest Retreat
BEGIN:VEVENT
DTSTART;TZID=Asia/Kuala_Lumpur:20220830T100000
DTEND;TZID=Asia/Kuala_Lumpur:20220830T120000
DTSTAMP:20260419T200304
CREATED:20220731T124315Z
LAST-MODIFIED:20220801T145716Z
UID:54271-1661853600-1661860800@www.kecharaforestretreat.com
SUMMARY:Soongdrup Blessing Puja
DESCRIPTION:Join us on Tuesday\, 30th August 2022 for a special Soongdrup Blessing Puja which will take us one step closer to the final consecration of the Tsem Rinpoche Relic Temple + Stupa! \nThis intensive preparatory puja will bless and empower the sacred items and substances inside our two new stupas — His Eminence Tsem Rinpoche’s Relic Stupa and the Tulku Drakpa Gyaltsen Stupa — and the 24 statues of Rinpoche’s previous incarnations. \n  \nEvent Details\n\nAug 30\, 2022 (Tue)\n10.00 am – 12.00 pm\nTsem Rinpoche Relic Temple\, Kechara Forest Retreat\nFree. RSVP here as seating is limited.\n\nConducted by visiting Sangha\, the puja will be led by the chantmaster emeritus of Shar Gaden Monastery\, Venerable Gen Usu-la Lobsang Jinpa. During the puja\, various rituals of self-generation and the generation of deities into the material substances inside the stupas and statues will be performed. \nThis important ritual is the penultimate step before the final Rabney consecration ceremony of this holy site. \n  \nBenefits\n\nEnhances the blessings from insertion items and substances\nIncreases the merits generated in relation to these holy monuments\n\nThese benefits are particularly relevant when building Buddhist places of worship such as the Tsem Rinpoche Relic Temple and Stupa. Every time a devotee\, pilgrim or visitor makes offerings and prayers here\, a portion of the positive spiritual energy is transferred to everyone who has contributed to the temple’s construction — a perpetual source of merits. \nThis is why we place great importance on fulfilling the traditional rituals to enhance the blessings of the holy objects inside the Temple — to increase the stream of merits for all sponsors and supporters. \n  \nHow you can participate\nAdmission to the puja is free and all are welcome to attend. If you are attending\, you may wish to offer kuyong (a token monetary offering) to the Sangha who will be conducting the puja. \nAs seating at the Relic Temple is limited\, please RSVP your attendance here. \n  \nHow you can contribute\nWe seek your kind sponsorship to cover the costs of this and other pujas held in conjunction with Tsem Rinpoche’s Parinirvana Anniversary and Relic Stupa consecration ceremony. \n\nOrdinary sponsor: RM30\nSpecial sponsor: RM150\nBronze sponsor: RM300\nSilver sponsor: RM750\nGold sponsor: RM1\,500\nDiamond sponsor: RM3\,000\nGrand sponsor: RM5\,000\n\nMost pujas will be performed in Kechara Forest Retreat from mid-August to mid-October 2022. Your donation will help us with the cost of: \n\nPuja offerings\nRitual substances\nFood and travel for visiting Sangha\nTemple upkeep and overheads\n\nDonate online to the Tsem Rinpoche Parinirvana Anniversary Fund at VajraSecrets.com or WhatsApp us at wa.me/60103020999. Any amount is welcome and deeply appreciated. \n
URL:https://www.kecharaforestretreat.com/event/soongdrup-blessing-puja-2022/
LOCATION:Kechara Forest Retreat\, Lot 3189\, Jalan Chamang\, Bentong\, Pahang\, 28700\, Malaysia
GEO:3.522285;101.875113
X-APPLE-STRUCTURED-LOCATION;VALUE=URI;X-ADDRESS=Kechara Forest Retreat Lot 3189 Jalan Chamang Bentong Pahang 28700 Malaysia;X-APPLE-RADIUS=500;X-TITLE=Lot 3189\, Jalan Chamang:geo:101.875113,3.522285
ATTACH;FMTTYPE=image/jpeg:https://www.kecharaforestretreat.com/wp-content/uploads/2022/07/20220731-kfr-soongdrup-puja-single-event.jpg
END:VEVENT
END:VCALENDAR