BEGIN:VCALENDAR
VERSION:2.0
PRODID:-//Kechara Forest Retreat - ECPv4.8.1//NONSGML v1.0//EN
CALSCALE:GREGORIAN
METHOD:PUBLISH
X-WR-CALNAME:Kechara Forest Retreat
X-ORIGINAL-URL:https://www.kecharaforestretreat.com
X-WR-CALDESC:Events for Kechara Forest Retreat
BEGIN:VEVENT
DTSTART;TZID=Asia/Kuala_Lumpur:20220915T093000
DTEND;TZID=Asia/Kuala_Lumpur:20220915T123000
DTSTAMP:20260419T142432
CREATED:20220908T184642Z
LAST-MODIFIED:20220912T135141Z
UID:54584-1663234200-1663245000@www.kecharaforestretreat.com
SUMMARY:Teachings on the Upasaka and Novice Vows
DESCRIPTION:On September 15 (Thu)\, His Eminence Kensur Rinpoche Jetsun Lobsang Phende will be giving a 1-day explanation on the Upasaka (Layman) and Sramanera (Novice) vows. This teaching is given: \n\nFor our sangha-to-be who will be ordained as novice monks and nuns soon.\nFor anyone who is considering ordination in the future.\nFor anyone who is interested to take the vows of a lay Buddhist. (Click here for the upcoming Upasaka vows ceremony)\n\n  \nEvent Details\n\nSept 15\, 2022 (Thu)\n9.30 am – 12.30 pm\nOnline (Zoom)\nFree admission\, please register here.\n\nRegistration closes Sept 14 (Wed)\, 12.00 pm (GMT +8).  \n(Open to Kechara members / Kechara Friends only)\n  \nThe Upasaka Vows\nThe Sanskrit term Upasaka refers to Buddhist practitioners who are not monks\, nuns or novices\, and who hold the five lay vows or Five Precepts: \n\nTo refrain from killing.\nTo refrain from stealing.\nTo refrain from false speech.\nTo refrain from sexual misconduct.\nTo refrain from using intoxicants.\n\nIn general\, the Upasaka vows can be taken all at once or individually\, and for a lifetime or a self-determined period of time. A lay disciple who holds all 5 lay vows is also known as Genyen in Tibetan\, literally meaning “pursuer of virtue.” \n  \nThe Novice Vows\nThe Five Precepts are part of the wider set of Pratimoksha (Self-Liberation) Vows that are practised in Buddhism. The Pratimoksha vows comprise mainly of the vows of monastic discipline which descended directly from Buddha Shakyamuni. \n\nNovice monks and nuns take 36 vows. They are known as Getsul (monk) or Getsulma (nun) in Tibetan and Sramanera (monk) or Sramenerika (nun) in Sanskrit.\nA fully-ordained monk (bhikshu or gelong) holds 253 vows while a fully-ordained nun (bhikshuni or gelongma) holds 364 vows within our ordination tradition.\n\nAll these vows are contained in the Vinaya\, the collection of Buddha’s teachings on monastic discipline. \n  \nBenefits of Taking Vows\nThe taking and upholding of vows is an essential Buddhist practice. It instils spiritual discipline which helps you develop mindfulness of how you conduct yourself on a daily basis.  \nIn addition\, every day that you uphold your vows\, you collect merits and purify negative karma. This helps you progress on your spiritual path through transformation of the mind.  \nBy attending this teaching\, you will not only gain knowledge but receive the seeds or karmic causes to take the vows and hold them well in the future. \n  \nWho can attend\n\nThe teaching is open to all Kechara Members and Kechara Friends who are interested to learn more about Buddhist vows.\nYou are encouraged to attend if you aspire to take the upasaka or novice vows in the future.\nThe teaching is compulsory if you wish to receive the upasaka vows from H.E. Kensur Rinpoche on Oct 8.\n\n  \nAbout H.E. Kensur Rinpoche Lobsang Phende\nHis Eminence Kensur Rinpoche Lobsang Phende studied at the feet of some of the greatest lineage masters of our tradition — H.H. Kyabje Trijang Rinpoche\, H.H. Kyabje Zong Rinpoche and H.E. Kyabje Zemey Rinpoche. He was the lead chanter (umze) of Gaden Shartse Monastery and later became the courageous first abbot of Shar Gaden Monastery.  \nAfter retiring from this esteemed position\, Kensur Rinpoche has visited Kechara on multiple occasions\, the first being in 2017 at the request of H.E. Tsem Rinpoche. \n
URL:https://www.kecharaforestretreat.com/event/teaching-on-vows-2022/
LOCATION:Kechara Forest Retreat\, Lot 3189\, Jalan Chamang\, Bentong\, Pahang\, 28700\, Malaysia
GEO:3.522285;101.875113
X-APPLE-STRUCTURED-LOCATION;VALUE=URI;X-ADDRESS=Kechara Forest Retreat Lot 3189 Jalan Chamang Bentong Pahang 28700 Malaysia;X-APPLE-RADIUS=500;X-TITLE=Lot 3189\, Jalan Chamang:geo:101.875113,3.522285
ATTACH;FMTTYPE=image/jpeg:https://www.kecharaforestretreat.com/wp-content/uploads/2022/09/vow-teaching-article1-kfr-single-event-1440x768.jpg
END:VEVENT
END:VCALENDAR