BEGIN:VCALENDAR
VERSION:2.0
PRODID:-//Kechara Forest Retreat - ECPv4.8.1//NONSGML v1.0//EN
CALSCALE:GREGORIAN
METHOD:PUBLISH
X-WR-CALNAME:Kechara Forest Retreat
X-ORIGINAL-URL:https://www.kecharaforestretreat.com
X-WR-CALDESC:Events for Kechara Forest Retreat
BEGIN:VEVENT
DTSTART;TZID=Asia/Kuala_Lumpur:20220925T070000
DTEND;TZID=Asia/Kuala_Lumpur:20220925T130000
DTSTAMP:20260419T143244
CREATED:20220921T192448Z
LAST-MODIFIED:20220922T131152Z
UID:54667-1664089200-1664110800@www.kecharaforestretreat.com
SUMMARY:White Tara Practice + Tenshug Long Life Ceremony
DESCRIPTION:\n.mark1{ background: #fbeae9; color: #000; font-weight: 300; display: inline-block; padding: 2rem 2rem;Join us on Sunday\, 25th September 2022 for a morning of life-extending rituals calling upon the blessings of the healing and long life Buddhas.  \n  \nEvent Details\n\nSep 25\, 2022 (Sun)\n7.00 am – 1.00 pm\nKechara Forest Retreat\nFree admission. RSVP here as seating is limited.\n\n  \nProgramme\n\n7.00 am White Tara long life practice + mantra chanting\n9.00 am Break\n10.00 am Tenshug long life ceremony\n1.00 pm Lunch\n3.00 pm Medicine Buddha puja + mantra chanting (click for details)\n5.00 pm End\n\n \nThese prayer ceremonies are dedicated:  \n\nFor the long life of H.E. Kensur Rinpoche Lobsang Phende.\nFor H.E. Tsem Rinpoche’s new incarnation to have long life and manifest great Dharma activities just like in his previous lives.\nFor the long life and good health of all members\, supporters and attendees.\n\n  \nAn erudite master\nEducated in the original Gaden Shartse Monastery in Tibet\, His Eminence Kensur Rinpoche Lobsang Phende was just 12 years old when he received his novice vows from one of the greatest masters of our time\, His Holiness Kyabje Zong Rinpoche.  \nLater\, as the first abbot of Shar Gaden Monastery\, Kensur Rinpoche became widely credited for the crucial role he played in keeping the lineage and practice of Dorje Shugden alive. Our founder\, His Eminence Tsem Rinpoche\, often spoke of his deep respect and affection for Kensur Rinpoche\, not only for the purity of his monkhood but for his willingness and bravery to lead over 600 monks during a time of great obstacles and uncertainty. \n  \nA worrying development\nLately\, this holy master has been manifesting ill health which is no coincidence or accident. Lamas of Kensur Rinpoche’s calibre have full control over their birth and passing. They manifest solely for the benefit of sentient beings and when the karmic causes for that benefit begin to wane\, they can choose to enter clear light and take rebirth in a younger\, newer form in order to continue their work under more suitable conditions. \n  \nA disciple’s responsibility\nDuring this degenerate age\, lamas of Kensur Rinpoche’s generation\, traditionally trained and pure in practice\, are far and few in between. Their knowledge and attainments are a precious healing resource sorely needed in a world full of anger\, pain and suffering. \nThus as practitioners and supporters of the lineage\, it is our responsibility to keep creating the causes for these rare beings to remain with us. One such method is by offering a Tenshug Long Life Ceremony. During a tenshug\, students make fervent requests to the lama to remain longer with us. If the lama accepts the tenshug\, he will extend his life in order to continue turning the wheel of Dharma. \n  \nA powerful offering\nAfter repeated requests by representatives of Tsem Ladrang\, Kechara and the visiting Sangha at Kechara Forest Retreat\, Kensur Rinpoche has humbly accepted an offering of a Tenshug Long Life Ceremony.  \nThis auspicious ritual will be performed by representatives from the main monasteries of our lineage\, including Shar Gaden\, Serpom\, Phegyeling and Segyu\, and they will be joined by qualified lamas and geshes from Europe\, North America and Asia. \n  \nBenefits for sponsors and attendees\n\nExtends lifespan\nAverts life-threatening obstacles\nIncreases the efficacy of medicines and medical treatment\nStrengthens the connection to the guru + lineage lamas\nCreates causes for the lama to remain\nCreates causes for Dharma to grow\nContinuous stream of merits as a result of the lama’s on-going activities\n\n  \nHow you can participate\nAdmission to the puja is free and all are welcome to attend. If you are attending\, you can actively participate in the ceremony by making a personal tenshug offering to H.E. Kensur Rinpoche.  \nHere are some suggestions of what you can offer based on Tibetan Buddhist tradition: \n\nBody\, speech\, mind representations of healing\, long life or increase e.g. images\, statues\, pendants\, scriptures\, books or stupas related to long life Buddhas such as Amitayus\, White Tara\, Namgyalma\, Medicine Buddha\, Shize\, Gyenze\, etc.\nBody\, speech\, mind representations based on the lama’s personal practices e.g. images\, statues\, pendants\, scriptures\, books or stupas relating to Lama Tsongkhapa\, Vajrayogini\, Manjushri\, Dorje Shugden\, and many other deities.\nAuspicious items e.g. the Eight Auspicious Signs\, the Seven Royal Emblems\, the Eight Auspicious Substances\, mandalas and other auspicious symbols of abundance and growth such as butter\, rice\, tea\, fruits\, flowers\, jewels\, precious stones\, etc.\nSymbolic representations of Dharma activities e.g. thrones\, seats\, throne brocades\, carpets\, robes\, ceremonial hats\, ritual implements\, offering vessels\, offering items\, etc.\nDirect contributions towards Kensur Rinpoche’s health e.g. medical care\, medicines\, supplements\, healthy foods/beverages\, medical equipment and so on. It is important that these items are suitable for Kensur Rinpoche’s health condition. For this reason\, it is recommended to donate towards items pre-approved by his medical care team.\nOfferings of practice and transformation e.g. taking vows\, committing to a retreat\, going vegetarian\, saving lives\, making a promise to abandon negative habits for a period of time\, etc.\n\n  \n\n\nWhat to bring\n\nKhatas\nMinimum: 2x for Tsem Rinpoche and Kensur Rinpoche\, or 5x for all high lamas.\nKuyong\nMinimum: 2x for Tsem Rinpoche and Kensur Rinpoche\, or 22x for all monks.\nPersonal tenshug offering\n\nOptional but recommended.\nYou will have the opportunity to present your personal offering to Kensur Rinpoche as part of the tenshug puja.\nThis can be a physical item based on the suggestions provided\, or a donation towards Kensur Rinpoche’s medical needs.\nIf you wish to make a donation\, bring it with you and offer it during the ceremony. Please write how you wish your donation to be used so we can allocate it correctly.\nPhysical offerings should be presented with a khata OR beautifully decorated to the best of your ability.\nIf you are not able to attend in person\, we can present your offerings on your behalf. Please contact us at wa.me/60103020999 for details.\n\n\n\n\n \n \nYou can also contribute towards the costs of the tenshug ceremony via the Tsem Rinpoche Parinirvana Anniversary Fund. Donate online at VajraSecrets.com or WhatsApp us at wa.me/60103020999. Any amount is welcome and deeply appreciated. \nTogether\, let’s create the oceans of merits needed so we can continue our direct connection with this holy being. \n
URL:https://www.kecharaforestretreat.com/event/tenshug-2022/
LOCATION:Kechara Forest Retreat\, Lot 3189\, Jalan Chamang\, Bentong\, Pahang\, 28700\, Malaysia
GEO:3.522285;101.875113
X-APPLE-STRUCTURED-LOCATION;VALUE=URI;X-ADDRESS=Kechara Forest Retreat Lot 3189 Jalan Chamang Bentong Pahang 28700 Malaysia;X-APPLE-RADIUS=500;X-TITLE=Lot 3189\, Jalan Chamang:geo:101.875113,3.522285
ATTACH;FMTTYPE=image/jpeg:https://www.kecharaforestretreat.com/wp-content/uploads/2022/09/20200921-kfr-kensur-rinpoche-single-event.jpg
END:VEVENT
END:VCALENDAR