BEGIN:VCALENDAR
VERSION:2.0
PRODID:-//Kechara Forest Retreat - ECPv4.8.1//NONSGML v1.0//EN
CALSCALE:GREGORIAN
METHOD:PUBLISH
X-WR-CALNAME:Kechara Forest Retreat
X-ORIGINAL-URL:https://www.kecharaforestretreat.com
X-WR-CALDESC:Events for Kechara Forest Retreat
BEGIN:VEVENT
DTSTART;TZID=Asia/Kuala_Lumpur:20251024T064500
DTEND;TZID=Asia/Kuala_Lumpur:20251026T140000
DTSTAMP:20260420T035002
CREATED:20241212T140449Z
LAST-MODIFIED:20241212T140449Z
UID:58828-1761288300-1761487200@www.kecharaforestretreat.com
SUMMARY:Tsem Rinpoche Mantra Retreat
DESCRIPTION: \n#cmsmasters_row_69e5a26ab4dc88_54931059 .cmsmasters_row_outer_parent { \n	padding-top: 0px; \n} \n\n#cmsmasters_row_69e5a26ab4dc88_54931059 .cmsmasters_row_outer_parent { \n	padding-bottom: 50px; \n} \n\n\n\n\n\n\n\n\n3D2N mantra retreat for a blessed & fulfilled spiritual journey\nAn extremely effective retreat for H.E. Tsem Rinpoche’s students and followers who are seeking a fulfilled spiritual journey. Based on Rinpoche’s Guru Yoga practice and name mantra\, this unique retreat includes meditative practices to merge with the guru’s enlightened qualities to accumulate a tremendous amount of merits. You will create and strengthen your connection with Rinpoche’s past and future incarnations\, and receive blessings for your spiritual wishes to come to pass. \n\n“…even if we do not know a lot of practices\, if we recite our Guru’s mantra whole-heartedly with sincerity and faith\, we can obtain the qualities and attainments of Buddha Heruka\, Dorje Shugden\, and all the enlightened beings.” \n\nEngaging in this retreat will also help create the necessary causes and merits for the search\, recognition and enthronement of Rinpoche’s new incarnation. This will not only benefit ourselves\, but also the lineage and countless sentient beings. \nLed by our experienced Buddhist pastors\, this 3D2N mantra retreat is suitable for all who are new to mantra retreats as well as experienced retreatants who may be too busy to prepare all the necessary offerings and materials. \n  \nAbout H.E. Tsem Rinpoche\nHis Eminence Tsem Rinpoche was a world-renowned Buddhist teacher\, the 25th incarnation in a long line of Indian\, Nepali and Tibetan Buddhist masters dating back to over 2\,500 years ago. He was the founder of the Kechara Buddhist Organisation headquartered in Malaysia\, a prolific author of commentaries\, discourses and books on Buddhism\, and a beloved spiritual guide to many disciples around the world. He dedicated his entire life to the practice and proliferation of Buddhism\, especially through the digital world. \n  \n\n\nEvent Details\n\n24 – 26 October 2025 (Fri – Sun)\nKechara Forest Retreat\, Bentong\n\nView programme details\, fees\, and booking info. \nRegistration closes Tuesday 21 October\, 2025.\n\n\n\n\n\n\n\n\n
URL:https://www.kecharaforestretreat.com/event/tsem-rinpoche-mantra-retreat-oct2025/
LOCATION:Kechara Forest Retreat\, Lot 3189\, Jalan Chamang\, Bentong\, Pahang\, 28700\, Malaysia
GEO:3.522285;101.875113
X-APPLE-STRUCTURED-LOCATION;VALUE=URI;X-ADDRESS=Kechara Forest Retreat Lot 3189 Jalan Chamang Bentong Pahang 28700 Malaysia;X-APPLE-RADIUS=500;X-TITLE=Lot 3189\, Jalan Chamang:geo:101.875113,3.522285
ATTACH;FMTTYPE=image/jpeg:https://www.kecharaforestretreat.com/wp-content/uploads/2022/06/20220621-kfr-tr-mantra-restreat-single-event.jpg
END:VEVENT
END:VCALENDAR