BEGIN:VCALENDAR
VERSION:2.0
PRODID:-//Kechara Forest Retreat - ECPv4.8.1//NONSGML v1.0//EN
CALSCALE:GREGORIAN
METHOD:PUBLISH
X-WR-CALNAME:Kechara Forest Retreat
X-ORIGINAL-URL:https://www.kecharaforestretreat.com
X-WR-CALDESC:Events for Kechara Forest Retreat
BEGIN:VEVENT
DTSTART;TZID=Asia/Kuala_Lumpur:20251212T064500
DTEND;TZID=Asia/Kuala_Lumpur:20251214T140000
DTSTAMP:20260419T154935
CREATED:20241212T154026Z
LAST-MODIFIED:20241212T154026Z
UID:58835-1765521900-1765720800@www.kecharaforestretreat.com
SUMMARY:Tsongkhapa Retreat
DESCRIPTION: \n#cmsmasters_row_69e4f98f1d5758_61811785 .cmsmasters_row_outer_parent { \n	padding-top: 0px; \n} \n\n#cmsmasters_row_69e4f98f1d5758_61811785 .cmsmasters_row_outer_parent { \n	padding-bottom: 50px; \n} \n\n \n#cmsmasters_row_69e4f98f1d7ea1_24607682 .cmsmasters_row_outer_parent { \n	padding-top: 0px; \n} \n\n#cmsmasters_row_69e4f98f1d7ea1_24607682 .cmsmasters_row_outer_parent { \n	padding-bottom: 50px; \n} \n\n\n\n\n\n\n\n\n3D2N mantra retreat for wisdom\, blessings & purification\nThe Tsongkhapa retreat is based on the Guru Yoga of Lama Tsongkhapa and focuses on the recitation of his sacred Migtsema mantra. It includes meditative practices to invoke Lama Tsongkhapa’s enlightened qualities to accumulate a tremendous amount of merits and purify vast amounts of negative karma. \nH.E. Tsem Rinpoche shared this advice for everyone: \n\n“Do Tsongkhapa retreat at least once a year to increase your wisdom (seven types of wisdoms)\, purify your karma and all kinds of negative thoughts and obstacles. Thoughts like ‘I don’t wanna do Dharma. I can’t do Dharma work. I feel lazy. I cannot make it.’ It will all go away” \n\nThus\, this retreat is extremely effective for anyone who wants to purify obstacles\, focus on deeper practice\, and make progress on their spiritual journey. \nTsongkhapa retreat helps us increase our wisdom so we can gain deeper insights into the Dharma we have learnt\, thereby transforming our minds. We will also lessen our anger\, depression and overcome various inner and outer obstacles that obstruct our spiritual journey and daily lives. By engaging in this retreat\, we are also fulfilling Rinpoche’s instructions\, thereby creating the causes for us to reconnect with Rinpoche’s incarnation and for the Dharma to flourish in Kechara Forest Retreat. \nLed by our experienced Buddhist pastors\, this 3D2N Tsongkhapa Retreat is suitable for all who are new to mantra retreats as well as experienced retreatants who may be too busy to prepare all the necessary offerings and materials. \n\n“Lama Tsongkhapa retreats every three months consistently will heal the mind of pain and emotional scars. One should engage in retreats always.” – Tsem Rinpoche \n\n  \n  \n\n\n\n\n\n\n\n\n\n\n\n\n\n\nEvent Details\n\n12 – 14 December 2025 (Fri – Sun)\nKechara Forest Retreat\, Bentong\n\nView programme details\, fees\, and booking info. \nREGISTRATION CLOSES TUESDAY 9 DECEMBER\, 2025.\n\n\n\n\n\n\n\n\n
URL:https://www.kecharaforestretreat.com/event/tsongkhapa-retreat-dec2025/
LOCATION:Kechara Forest Retreat\, Lot 3189\, Jalan Chamang\, Bentong\, Pahang\, 28700\, Malaysia
GEO:3.522285;101.875113
X-APPLE-STRUCTURED-LOCATION;VALUE=URI;X-ADDRESS=Kechara Forest Retreat Lot 3189 Jalan Chamang Bentong Pahang 28700 Malaysia;X-APPLE-RADIUS=500;X-TITLE=Lot 3189\, Jalan Chamang:geo:101.875113,3.522285
ATTACH;FMTTYPE=image/jpeg:https://www.kecharaforestretreat.com/wp-content/uploads/2022/07/20220725-kfr-tsongkhaparetreat-single-event.jpg
END:VEVENT
END:VCALENDAR