BEGIN:VCALENDAR
VERSION:2.0
PRODID:-//Kechara Forest Retreat - ECPv4.8.1//NONSGML v1.0//EN
CALSCALE:GREGORIAN
METHOD:PUBLISH
X-WR-CALNAME:Kechara Forest Retreat
X-ORIGINAL-URL:https://www.kecharaforestretreat.com
X-WR-CALDESC:Events for Kechara Forest Retreat
BEGIN:VEVENT
DTSTART;TZID=Asia/Kuala_Lumpur:20220920T150000
DTEND;TZID=Asia/Kuala_Lumpur:20220920T190000
DTSTAMP:20260419T184346
CREATED:20220809T203558Z
LAST-MODIFIED:20220813T064848Z
UID:54427-1663686000-1663700400@www.kecharaforestretreat.com
SUMMARY:Vajra Yogini Self Initiation
DESCRIPTION:Join us on Tuesday\, 20th September 2022 for a self-initiation ritual which taps into the potent tantric energies of the feminine divine. \nThe Vajra Yogini self-initiation ceremony is a complex\, elaborate ritual that has great significance for both initiates and non-initiates. \n\nFor the uninitiated\, attending the self-initiation ceremony creates the causes for us to receive Vajra Yogini’s practice in the future.\nFor the initiated\, the ceremony mends and reaffirms our vows taken previously\, and purifies downfalls that could prevent us from gaining attainments from our practice.\n\nEven more auspiciously\, this ritual will be performed on Dakini Tsog Day\, when our connection with the highest tantric female deity Vajra Yogini is strongest. Devoted Buddhists celebrate this holy day with a feast of offerings to deepen their connection with the feminine energy of wisdom. \n  \nEvent Details\n\nSep 20\, 2022 (Tue)\n3.00 pm – 7.00 pm\nKechara Forest Retreat\nFree admission. RSVP here as seating is limited.\n\nThe puja will be conducted by visiting Sangha from Shar Gaden\, Serpom\, Phelgyeling and Segyu monasteries\, and led by His Eminence Kensur Rinpoche Jetsun Lobsang Phende and other high lamas and esteemed geshes. \n  \nBenefits for sponsors and attendees\n\nMends broken vows\nRepairs broken commitments\nRe-affirms vows taken previously\nPurifies downfalls preventing spiritual attainments\nStrengthens the relationship with our spiritual guide\nCreates causes to receive higher tantric practices\nCreates causes for spiritual success\nClears negative energy\nBlesses the environment\n\nFurthermore\, this is one of the pujas recommended by H.E. Tsem Rinpoche prior to his parinirvana\, to help students generate tremendous merits and create the causes to swiftly find his unmistaken incarnation. \n  \nHow you can participate\nAdmission to the puja is free and all are welcome to attend. If you are attending\, you may wish to offer kuyong (a token monetary offering) to the Sangha who will be conducting the puja. \nTo ensure we have enough seating for all guests\, please RSVP your attendance here. \n  \nHow you can contribute\nWe seek your kind sponsorship to cover the costs of this and other pujas held in conjunction with Tsem Rinpoche’s Parinirvana Anniversary and Relic Stupa consecration ceremony. \n\nOrdinary sponsor: RM30\nSpecial sponsor: RM150\nBronze sponsor: RM300\nSilver sponsor: RM750\nGold sponsor: RM1\,500\nDiamond sponsor: RM3\,000\nGrand sponsor: RM5\,000\n\nMost pujas will be performed in Kechara Forest Retreat from mid-August to mid-October 2022. Your donation will help us with the cost of: \n\nPuja offerings\nRitual substances\nFood and travel for visiting Sangha\nTemple upkeep and overheads\n\nDonate online to the Tsem Rinpoche Parinirvana Anniversary Fund at VajraSecrets.com or WhatsApp us at wa.me/60103020999. Any amount is welcome and deeply appreciated. \n  \nWho is Vajra Yogini?\nVajra Yogini is the supreme embodiment of wisdom and compassion. Wrathful and loving\, she personifies the strength of a divine mother’s love to give swiftly and unconditionally whatever we need. \n
URL:https://www.kecharaforestretreat.com/event/vajrayogini-self-initiation-2022/
LOCATION:Kechara Forest Retreat\, Lot 3189\, Jalan Chamang\, Bentong\, Pahang\, 28700\, Malaysia
GEO:3.522285;101.875113
X-APPLE-STRUCTURED-LOCATION;VALUE=URI;X-ADDRESS=Kechara Forest Retreat Lot 3189 Jalan Chamang Bentong Pahang 28700 Malaysia;X-APPLE-RADIUS=500;X-TITLE=Lot 3189\, Jalan Chamang:geo:101.875113,3.522285
ATTACH;FMTTYPE=image/jpeg:https://www.kecharaforestretreat.com/wp-content/uploads/2022/08/20220808-kfr-vyself-initiation-single-event.jpg
END:VEVENT
END:VCALENDAR